BEGIN:VCALENDAR
VERSION:2.0
PRODID:-//Equitation comportementale - ECPv6.15.17.1//NONSGML v1.0//EN
CALSCALE:GREGORIAN
METHOD:PUBLISH
X-ORIGINAL-URL:https://www.equi-claire.be
X-WR-CALDESC:Évènements pour Equitation comportementale
REFRESH-INTERVAL;VALUE=DURATION:PT1H
X-Robots-Tag:noindex
X-PUBLISHED-TTL:PT1H
BEGIN:VTIMEZONE
TZID:Europe/Paris
BEGIN:DAYLIGHT
TZOFFSETFROM:+0100
TZOFFSETTO:+0200
TZNAME:CEST
DTSTART:20170326T010000
END:DAYLIGHT
BEGIN:STANDARD
TZOFFSETFROM:+0200
TZOFFSETTO:+0100
TZNAME:CET
DTSTART:20171029T010000
END:STANDARD
BEGIN:DAYLIGHT
TZOFFSETFROM:+0100
TZOFFSETTO:+0200
TZNAME:CEST
DTSTART:20180325T010000
END:DAYLIGHT
BEGIN:STANDARD
TZOFFSETFROM:+0200
TZOFFSETTO:+0100
TZNAME:CET
DTSTART:20181028T010000
END:STANDARD
BEGIN:DAYLIGHT
TZOFFSETFROM:+0100
TZOFFSETTO:+0200
TZNAME:CEST
DTSTART:20190331T010000
END:DAYLIGHT
BEGIN:STANDARD
TZOFFSETFROM:+0200
TZOFFSETTO:+0100
TZNAME:CET
DTSTART:20191027T010000
END:STANDARD
END:VTIMEZONE
BEGIN:VEVENT
DTSTART;TZID=Europe/Paris:20180715T140000
DTEND;TZID=Europe/Paris:20180720T173000
DTSTAMP:20260426T004241
CREATED:20170314T122330Z
LAST-MODIFIED:20180329T083504Z
UID:26882-1531663200-1532107800@www.equi-claire.be
SUMMARY:Stage ados : travail au sol et monté
DESCRIPTION:Stage « jeunes » d’équitation comportementale dite éthologique : \n« Travail au sol et monté en licol ». \nCe stage a pour but de vous apprendre à obtenir la confiance et le respect mutuel avec votre cheval et d’évoluer avec lui en toute sécurité sur du travail à pied et monté en licol. Les journées de stage alterneront du travail avec les chevaux au sol\, monté ou en liberté en piste\, avec des séances de gestuelle\, théorie\, soins aux chevaux et ateliers d’écurie. Un cheval sera attribué par stagiaire durant le séjour. Possibilité de venir avec son propre cheval ou poney (pas d’étalon). \nProgramme type d’une journée de stage : \n– (09h00 Soins aux chevaux) \n– 09h30 Théorie pratique \n– 10h00 Gestuelles \n– 10h30 Pansage et préparation des chevaux \n– 11h00 Travail avec les chevaux \n– 12h30 Ateliers d’écurie \n– 13h00 Pause repas \n– 14h00 Gestuelle \n– 14h30 Travail avec les chevaux \n– 16h30 Gouter et théorie éthologique \n– 17h00 Ateliers d’écurie et soins aux chevaux \n– 18h00 Fin de la journée de stage en externat \nCe stage est proposé en licol\, cordelette ou au mors suivant les activités et les niveaux respectifs des cavaliers et chevaux. Le programme du stage sera adapté au niveau de chacun ainsi que selon les envies des stagiaires. \nLe stage commence le dimanche après-midi (accueil de 14 à 15h) aux Ecuries Les Crins de ClaireFontaine à Thirimont (Beaumont/Hainaut). \nIl est vivement conseillé d’être à l’aise aux 3 allures ; le stage n’a pas pour but de vous apprendre à monter à cheval mais de renforcer votre relation avec votre ami équin. \nA partir de 12 ans (ou 10 ans si déjà suivi un stage enfant).\njusque 25 ans. \nEncadrement : \nClaire Stevenaert\, formée par l’Académie d’Enseignement Comportementale de Firfol et brevetée de la Fédération Française d’Equitation (BFEE 1 & 2). \nIsabelle\, éducatrice\n… \nTarifs : \n– 385 € TVAC en externat (comprends les journées de stage avec un cheval de l’Ecurie Les Crins de ClaireFontaine)\, \n– Supplément repas et internat : 100 € du dimanche soir au vendredi midi (prévoir sac de couchage ou couette\, et oreiller) \n– Supplément logement d’un cheval + foin : 60 € en box pour les 6 jours (prévoir le grain si nécessaire). \n– Un supplément de 10 euros est demandé pour une assurance si l’ados n’est pas en ordre de licence. Possibilité d’assurance à l’année pour 25 euros. \nInfos et réservations : www.equi-claire.be – Claire Stevenaert – 0473/622.422 – infos@equi-claire.be
URL:https://www.equi-claire.be/event/stage-jeunes12-25-initiation-travail-sol-monte-2/
LOCATION:Ecurie Les Crins de Clairefontaine\, 8\, place de Thirimont\, Thirimont\, Belgium
CATEGORIES:Stage tous publics,Stage-jeune,Stages,Travail au sol,Travail au sol jeune,Travail monté
ATTACH;FMTTYPE=image/jpeg:https://www.equi-claire.be/wp-content/uploads/2017/03/jeunes.jpg
ORGANIZER;CN="Equi Claire":MAILTO:contact@equi-claire.be
END:VEVENT
BEGIN:VEVENT
DTSTART;TZID=Europe/Paris:20180715T140000
DTEND;TZID=Europe/Paris:20180720T180000
DTSTAMP:20260426T004241
CREATED:20170209T174329Z
LAST-MODIFIED:20180618T142719Z
UID:26988-1531663200-1532109600@www.equi-claire.be
SUMMARY:Stage "étho-rando au Val joly" ados et jeunes adultes
DESCRIPTION:Nous vous proposons un stage d’équitation éthologique pour les ados et les jeunes adultes : Stage « équitation éthologique et randonnée » \nCe stage sera partagé entre équitation comportementale\, cartographie\, promenades\, balade nocturne\, et 2 jours et demi de randonnée jusqu’au lac du Val Joly (baignade avec les chevaux). Ce stage a pour but de vous apprendre à obtenir la confiance et le respect mutuels avec votre cheval et d’évoluer avec lui en toute sécurité lors du travail à pied\, monté en piste et en extérieur. \nDurant 3 jours\, vous serez initié à l’équitation comportementale au cours de différents ateliers selon votre niveau. Au programme de ces 3 journées de stage : travail avec les chevaux au sol ou monté en piste\, une balade de jour\, une balade semi-nocturne\, des notions de cartographie ainsi que des séances de gestuelle\, théorie\, soins aux chevaux et ateliers d’écurie. \nEnsuite\, nous partirons en randonnée durant 2 jours et demi jusqu’au lac du Val Joly où\, si le temps le permet\, nous pourrons nous baigner avec les chevaux. \nUn cheval sera attribué par stagiaire durant le séjour. Possibilité de venir avec son propre cheval ou poney (pas d’étalon). \nProgramme du stage : \nDimanche : \n14h00 : Accueil\n14h30 : Présentation du stage et formation des groupes en fonction des niveaux\n15h00 : théorie\, gestuelle\, travail à pied\n18h00 : fin des activités avec les chevaux \n(Suite : exemple de programme pour un groupe initiation)\nLundi : \n9h00 : Soins aux chevaux\n10h00 Théorie « L’équitation éthologique »\n10h30 Gestuelle\n11h00 Travail à pied\n12h30 Travaux d’écuries pour les ados\n13h00 Pause – Repas\n14h00 Cartographie\n14h30 Pansage et préparation des chevaux\n15h15 Travail monté : « Se servir d’une rênes d’arrêt d’urgence en toute situation »\n16h00 Départ en balade\n17h00 Soins aux chevaux et travaux d’écurie pour les ados\nFin de la journée vers 17h30 – 18h00 \nMardi \n9h30 Théorie « Ethologie : éthogramme »\n10h15 Gestuelle\n11h00 Travail à pied\n12h30 Travaux d’écuries pour les ados\n13h00 Pause – Repas\n14h00 Théorie pratique / Restitution\n14h45 Gestuelle\n15h30 Travail à pied\n17h00 Soins aux chevaux et travaux d’écurie pour les ados\n18h30 Repas\n19h30 Préparation des chevaux\n20h00 Balade Nocturne \nMercredi \n9h30 Théorie « Ethologie : les 5 sens »\n10h15 Gestuelle\n11h00 Travail à pied\n12h30 Travaux d’écuries pour les ados\n13h00 Pause – Repas\n14h00 Cartographie\n14h30 Préparation des chevaux\n15h00 Départ randonnée\n….\nLes chevaux logeront dans une prairie ou box. Les stagiaires seront rapatriés en voiture à Thirimont pour le logement et le repas. \nJeudi \nRandonnée autour du Lac du Val Joly avec baignade dans le lac \nVendredi \nRandonnée pour retourner vers Thirimont. \nLe programme du stage sera adapté au niveau de chacun ainsi que selon les envies des stagiaires. \nLe stage a lieu aux Ecuries Les Crins de ClaireFontaine à Thirimont (Beaumont/Hainaut). \nIl est demandé d’être à l’aise aux 3 allures en extérieur et d’avoir au minimum 12 ans. \nEncadrement : \nClaire Stevenaert\, formée par l’Académie d’Enseignement Comportementale de Firfol et brevetée de la Fédération Française d’Equitation (BFEE 1 & 2). \nLaetitia\, randonneuse \nIsabelle\, éducatrice \nAinsi que des assistantes en formation. \nTarifs : \n– Le stage revient à 425 euros TVAC. Cela comprend l’encadrement du stage et de la randonnée ainsi qu’un shooting photo (à usage privé) au lac du Val Joly par Nathalie Hupin (SPRL photographicdesign) en guise de magnifique souvenir 🙂 \nLes suppléments : \n– 100 euros en internat (logement et repas du dimanche soir au vendredi midi)\n– location cheval (comprenant le logement de celui-ci lors de la randonnée) : 55 euros\n– logement de votre cheval : 75 € en box (paille + foin\, prévoir le grain) dans les 2 écuries.\n– Un supplément de 10 euros est demandé pour une assurance si l’ados (< 18 ans) n’est pas en ordre de licence. Possibilité d’assurance à l’année pour 25 euros. \nInfos et réservations : www.equi-claire.be – Claire Stevenaert – 0473/622.422 – infos@equi-claire.be
URL:https://www.equi-claire.be/event/stage-etho-rando-val-joly-ados-jeunes-adultes-2/
LOCATION:Ecurie Les Crins de Clairefontaine\, 8\, place de Thirimont\, Thirimont\, Belgium
CATEGORIES:Randonnée-jeune,Stage-jeune,Stages
ATTACH;FMTTYPE=image/jpeg:https://www.equi-claire.be/wp-content/uploads/2016/08/stage-etho-rando4.jpg
ORGANIZER;CN="Equi Claire":MAILTO:contact@equi-claire.be
END:VEVENT
END:VCALENDAR