BEGIN:VCALENDAR
VERSION:2.0
PRODID:-//Equitation comportementale - ECPv6.15.17.1//NONSGML v1.0//EN
CALSCALE:GREGORIAN
METHOD:PUBLISH
X-ORIGINAL-URL:https://www.equi-claire.be
X-WR-CALDESC:Évènements pour Equitation comportementale
REFRESH-INTERVAL;VALUE=DURATION:PT1H
X-Robots-Tag:noindex
X-PUBLISHED-TTL:PT1H
BEGIN:VTIMEZONE
TZID:Europe/Paris
BEGIN:DAYLIGHT
TZOFFSETFROM:+0100
TZOFFSETTO:+0200
TZNAME:CEST
DTSTART:20170326T010000
END:DAYLIGHT
BEGIN:STANDARD
TZOFFSETFROM:+0200
TZOFFSETTO:+0100
TZNAME:CET
DTSTART:20171029T010000
END:STANDARD
BEGIN:DAYLIGHT
TZOFFSETFROM:+0100
TZOFFSETTO:+0200
TZNAME:CEST
DTSTART:20180325T010000
END:DAYLIGHT
BEGIN:STANDARD
TZOFFSETFROM:+0200
TZOFFSETTO:+0100
TZNAME:CET
DTSTART:20181028T010000
END:STANDARD
BEGIN:DAYLIGHT
TZOFFSETFROM:+0100
TZOFFSETTO:+0200
TZNAME:CEST
DTSTART:20190331T010000
END:DAYLIGHT
BEGIN:STANDARD
TZOFFSETFROM:+0200
TZOFFSETTO:+0100
TZNAME:CET
DTSTART:20191027T010000
END:STANDARD
END:VTIMEZONE
BEGIN:VEVENT
DTSTART;TZID=Europe/Paris:20180802T093000
DTEND;TZID=Europe/Paris:20180803T173000
DTSTAMP:20260425T230035
CREATED:20170215T115348Z
LAST-MODIFIED:20180329T064924Z
UID:26973-1533202200-1533317400@www.equi-claire.be
SUMMARY:Stage travail au sol niveau 1
DESCRIPTION:Durant deux jours\, vous allez apprendre les bases de l’équitation éthologique : obtenir la confiance et le respect mutuels avec votre cheval. \nVous allez alterner des séances de travail avec les chevaux et des séances de gestuelle afin de vous familiariser avec les différents outils. Vous découvrirez essentiellement comment communiquer avec votre partenaire équin grâce au travail au sol. \nUne petite séance de théorie vous permettra aussi d’approfondir vos connaissances du monde du cheval. \nCe stage est ouvert à toute personne désirant approfondir sa relation avec les chevaux\, cavaliers ou non cavaliers\, quelle que soit la discipline. \nExemple d’une journée de stage : \nAccueil et présentation du stage\nSéance de gestuelle\nAbord du cheval – séance d’observation\nSéance de travail à pied\nPause du midi\nThéorie éthologique du cheval\nSéance de gestuelle\nSéance de travail à pied \nTarif :\n180 euros TVAC par stagiaire avec cheval\n30 euros de location de cheval ou de box \n25 euros /jour pour les auditeurs \nInfos et réservations : www.equi-claire.be – Claire Stevenaert – 0473/622.422 – infos@equi-claire.be
URL:https://www.equi-claire.be/event/stage-travail-sol-1-2/
LOCATION:Ecurie du Tit’Horse\, Rue du Village 1\, Croix-Lez-Rouveroy\, Hainaut\, Belgium
CATEGORIES:Stage tous publics,Stages,Travail au sol
ATTACH;FMTTYPE=image/jpeg:https://www.equi-claire.be/wp-content/uploads/2017/01/init-sol.jpg
ORGANIZER;CN="Equi Claire":MAILTO:contact@equi-claire.be
END:VEVENT
BEGIN:VEVENT
DTSTART;TZID=Europe/Paris:20180804T093000
DTEND;TZID=Europe/Paris:20180805T173000
DTSTAMP:20260425T230035
CREATED:20170215T115348Z
LAST-MODIFIED:20180329T124526Z
UID:26992-1533375000-1533490200@www.equi-claire.be
SUMMARY:Stage travail au sol niveau 2
DESCRIPTION:Durant deux jours\, vous allez consolider les bases de l’équitation éthologique : obtenir la confiance et le respect mutuels avec votre cheval. \nVous allez alterner des séances de travail avec les chevaux et des séances de gestuelle afin d’améliorer votre technique grâce aux différents outils. \nVous mettrez en application vos connaissances sur de nouveaux ateliers et perfectionnerez les différents exercices déjà connus\, tels que les différents types de marches\, les extensions d’encolures sur le cercles\, passage de cavalettis\, transitions\, etc. \nUne petite séance de théorie vous permettra aussi d’approfondir vos connaissances du monde du cheval. \nCe stage est ouvert à toute personne désirant approfondir sa relation avec les chevaux\, cavaliers ou non cavaliers\, quelle que soit la discipline. \nExemple d’une journée de stage : \nAccueil et présentation du stage\nSéance de gestuelle\nSéance de travail à pied\nPause du midi\nThéorie éthologique du cheval\nSéance de gestuelle\nSéance de travail à pied \nTarif :\n180 euros TVAC par stagiaire avec cheval\n30 euros de location de cheval ou de box \n25 euros /jour pour les auditeurs \nInfos et réservations : www.equi-claire.be – Claire Stevenaert – 0473/622.422 – infos@equi-claire.be
URL:https://www.equi-claire.be/event/stage-travail-sol-2-2/
LOCATION:Ecurie du Tit’Horse\, Rue du Village 1\, Croix-Lez-Rouveroy\, Hainaut\, Belgium
CATEGORIES:Stage tous publics,Stages,Travail au sol
ATTACH;FMTTYPE=image/jpeg:https://www.equi-claire.be/wp-content/uploads/2017/01/init-sol.jpg
ORGANIZER;CN="Equi Claire":MAILTO:contact@equi-claire.be
END:VEVENT
BEGIN:VEVENT
DTSTART;TZID=Europe/Paris:20180806T093000
DTEND;TZID=Europe/Paris:20180808T173000
DTSTAMP:20260425T230035
CREATED:20170412T083311Z
LAST-MODIFIED:20180329T084635Z
UID:26995-1533547800-1533749400@www.equi-claire.be
SUMMARY:Stage travail monté
DESCRIPTION:Venez travailler votre cheval monté afin d’améliorez votre relation avec lui et d’augmenter vos performances. \nLe travail est individualisé pour chaque couple cavalier-cheval selon vos désirs. \nQuelques thèmes qui peuvent être abordés : \n– L’arrêt d’urgence en toutes circonstances.\n– Comment éduquer votre cheval pour les transitions et la direction sur un simple licol\, les techniques pour y parvenir\, le contrôle avec l’assiette.\n– Comment faire progresser votre cheval vers une équitation plus légère\, dans une attitude naturelle et décontractée\, sans peurs\, …\n– Comment obtenir une entente solide montée\, avec des conseils adaptés à votre niveau d’acquisition technique\, même si vous êtes débutant ou très confirmé en monte classique.\n– Comment obtenir une mise en main légère ?\n– Comment avoir un meilleur contrôle pour des directions précises ? \nLors de ces stages\, vous allez alterner les séances de travail avec les chevaux par des séances de gestuelle afin d’être à l’aise avec les différents outils. Des petites séances de théorie vous permettront aussi d’approfondir vos connaissances du monde du cheval. Ces stages sont ouverts à toute personne ayant suivi une initiation à l’équitation comportementale et désirant approfondir sa relation avec les chevaux\, quelle que soit la discipline. \nDates : 06 août 2018 au 08 août 2018 de 9h30 à 17h30\nTarif stagiaire : 270 euros Tvac (maximum 6)\nTarif auditeur : 25 euros / jour\nPossibilité de louer un cheval sur place. \nInfos et réservations : www.equi-claire.be – Claire Stevenaert – 0473/622.422 – infos@equi-claire.be
URL:https://www.equi-claire.be/event/travail-monte-2/
LOCATION:Ecurie du Tit’Horse\, Rue du Village 1\, Croix-Lez-Rouveroy\, Hainaut\, Belgium
CATEGORIES:Stage tous publics,Stages,Travail monté
ATTACH;FMTTYPE=image/jpeg:https://www.equi-claire.be/wp-content/uploads/2017/02/P1070829-scaled.jpg
ORGANIZER;CN="Equi Claire":MAILTO:contact@equi-claire.be
END:VEVENT
BEGIN:VEVENT
DTSTART;TZID=Europe/Paris:20180812T140000
DTEND;TZID=Europe/Paris:20180817T173000
DTSTAMP:20260425T230035
CREATED:20170311T134426Z
LAST-MODIFIED:20180329T085017Z
UID:26886-1534082400-1534527000@www.equi-claire.be
SUMMARY:Stage jeunes(10-25) travail au sol\, liberté et clicker-training
DESCRIPTION:Stage ados d’équitation comportementale dite éthologique : \n« Travail au sol et en liberté\, techniques de clicker training ». \nCe stage a pour but de vous apprendre à obtenir la confiance et le respect mutuel avec votre cheval et d’évoluer avec lui en toute sécurité sur du travail à pied et en liberté. Grâce aux techniques du clicker training\, vous apprendrez aussi comment lui faire faire des petits tours de spectacle ou comment faciliter les apprentissages quotidiens tout en travaillant sur sa motivation. \nLes journées de stage alterneront du travail avec les chevaux au sol à la longe ou en liberté\, avec des séances de gestuelle\, théorie\, soins aux chevaux et ateliers d’écurie. Un cheval sera attribué par stagiaire durant le séjour. Possibilité de venir avec son propre cheval ou poney (pas d’étalon). \nProgramme type d’une journée de stage : \n– (09h00 Soins aux chevaux) \n– 09h30 Théorie pratique \n– 10h00 Gestuelles \n– 10h30 Pansage et préparation des chevaux \n– 11h00 Travail avec les chevaux \n– 12h30 Ateliers d’écurie \n– 13h00 Pause repas \n– 14h00 Gestuelle \n– 14h30 Travail avec les chevaux \n– 16h30 Gouter et théorie éthologique \n– 17h00 Ateliers d’écurie et soins aux chevaux \n– 18h00 Fin de la journée de stage en externat \nLe stage commence le dimanche après-midi (accueil de 14 à 15h) aux Ecuries Les Crins de ClaireFontaine à Thirimont (Beaumont/Hainaut). \nA partir de 12 ans (ou 10 ans si déjà suivi un stage enfant).\njusque 25 ans. \nEncadrement : \nClaire Stevenaert\, formée par l’Académie d’Enseignement Comportementale de Firfol et brevetée de la Fédération Française d’Equitation (BFEE 1 & 2). \nIsabelle\, éducatrice\n… \nTarifs : \n– 385 € TVAC en externat (comprends les journées de stage avec un cheval de l’Ecurie Les Crins de ClaireFontaine)\, \n– Supplément repas et internat : 100 € du dimanche soir au vendredi midi (prévoir sac de couchage ou couette\, et oreiller) \n– Supplément logement d’un cheval + foin : 60 € en box pour les 6 jours (prévoir le grain si nécessaire). \n– Un supplément de 10 euros est demandé pour une assurance si l’ados n’est pas en ordre de licence. Possibilité d’assurance à l’année pour 25 euros. \nInfos et réservations : www.equi-claire.be – Claire Stevenaert – 0473/622.422 – infos@equi-claire.be
URL:https://www.equi-claire.be/event/stage-jeunes10-25-travail-sol-liberte-clicker-training-2/
LOCATION:Ecurie Les Crins de Clairefontaine\, 8\, place de Thirimont\, Thirimont\, Belgium
CATEGORIES:Sol-clicker,Stage-jeune,Stages
ATTACH;FMTTYPE=image/jpeg:https://www.equi-claire.be/wp-content/uploads/2017/02/IMG_9681-scaled.jpg
ORGANIZER;CN="Equi Claire":MAILTO:contact@equi-claire.be
END:VEVENT
BEGIN:VEVENT
DTSTART;TZID=Europe/Paris:20180812T140000
DTEND;TZID=Europe/Paris:20180817T173000
DTSTAMP:20260425T230035
CREATED:20170314T122754Z
LAST-MODIFIED:20180618T142248Z
UID:26878-1534082400-1534527000@www.equi-claire.be
SUMMARY:Stage "enfants" (8-15): multi-disciplines autour du cheval
DESCRIPTION:Nous vous proposons un stage enfant multi-disciplines basé sur l’équitation éthologique : Stage « A la découverte du cheval autrement ». \nCe stage a pour but d’apprendre à vos enfants à obtenir la confiance et le respect mutuel avec un cheval et d’évoluer avec lui en toute sécurité sur du travail à pied et monté. Les journées de stage alterneront du travail avec les chevaux au sol ou monté en piste\, des balades\, des séances de voltige\, mise en selle avec des séances de pansage\, gestuelle\, théorie sous forme de jeux\, observation\, soins aux chevaux et ateliers d’écurie. Un cheval ou poney sera attribué par stagiaire durant le séjour. Possibilité de venir avec son propre cheval ou poney (pas d’étalon). \nProgramme type d’une journée de stage : \n– 09h30 Soins aux chevaux \n– 10h00 Gestuelle \n– 10h30 Pansage et préparation des chevaux \n– 11h00 Travail avec les chevaux \n– 12h30 Ateliers d’écurie \n– 13h00 Pause repas \n– 14h00 Théorie éducative \n– 14h30Préparation des chevaux \n– 15h00 Travail avec les chevaux \n– 16h30 Gouter \n– 17h00 Ateliers d’écurie et soins aux chevaux \n– 18h00 Fin de la journée de stage en externat \nLe programme du stage sera adapté au niveau de chacun ainsi que selon les envies des stagiaires. \nLe stage a lieu du dimanche 14h au vendredi 17h30 aux Ecuries Les Crins de ClaireFontaine à Thirimont (Beaumont/Hainaut) dans une ambiance familiale. \nA partir de 8 ans. \nEncadrement : \nClaire Stevenaert\, formée par l’Académie d’Enseignement Comportementale de Firfol et brevetée de la Fédération Française d’Equitation (BFEE 1 & 2). \nIsabelle\, éducatrice\n… \nTarifs : \n– 385 € TVAC en externat (comprends les journées de stage avec un cheval l’Ecurie Les Crins de ClaireFontaine)\, \n– Supplément repas et internat : 100 € du dimanche soir au vendredi midi (prévoir sac de couchage ou couette\, oreiller) \n– Supplément logement d’un cheval + foin : 60 € en box pour les 6 jours (prévoir le grain si nécessaire). \n– Un supplément de 10 euros est demandé pour une assurance si l’enfant n’est pas en ordre de licence. Possibilité d’assurance à l’année pour 25 euros. \nInfos et réservations : www.equi-claire.be – Claire Stevenaert – 0473/622.422 – infos@equi-claire.be
URL:https://www.equi-claire.be/event/stage-enfants-8-15-multi-disciplines-autour-cheval-2/
LOCATION:Ecurie Les Crins de Clairefontaine\, 8\, place de Thirimont\, Thirimont\, Belgium
CATEGORIES:Enfants-multi,Stage-jeune,Stages
ATTACH;FMTTYPE=image/jpeg:https://www.equi-claire.be/wp-content/uploads/2017/01/enfants.jpg
ORGANIZER;CN="Equi Claire":MAILTO:contact@equi-claire.be
END:VEVENT
BEGIN:VEVENT
DTSTART;TZID=Europe/Paris:20180825T093000
DTEND;TZID=Europe/Paris:20180826T173000
DTSTAMP:20260425T230035
CREATED:20170311T132859Z
LAST-MODIFIED:20180329T090103Z
UID:26999-1535189400-1535304600@www.equi-claire.be
SUMMARY:Stage initiation spécial poulain
DESCRIPTION:Durant deux jours\, vous allez apprendre les bases de l’équitation éthologique : obtenir la confiance et le respect mutuels avec votre poulain ou jeune cheval. \nLe stage est destiné aux poulains ou jeunes chevaux encore peu manipulés. Au programme respect de l’humain\, marche en main\, contrôle des différentes parties du cheval\, prise des pieds\, début du travail en main en extérieur\, désensibilisations aux véhicules\, …\nLe programme sera spécialement adaptés pour les jeunes chevaux n’ayant pas encore l’habitude de garder un grande concentration(plusieurs petites séances sur la journée).\nPour les jeunes chevaux plus avancés\, le stage initiation au sol de base\, leur est ouvert. \nPendant le week-end\, vous allez alterner des séances de travail avec les chevaux et des séances de gestuelle afin de vous familiariser avec les différents outils. Le premier jour vous découvrirez essentiellement comment communiquer avec votre partenaire équin\, tandis que le deuxième jour sera plus consacré à des mises en situation pratiques. Une petite séance de théorie vous permettra aussi d’approfondir vos connaissances du monde du cheval. \nCe stage est ouvert à toute personne désirant apprendre à manipuler correctement un poulain ou jeune cheval. \nDates : 25 août au 26 août de 9h30 à 17h30\nTarif stagiaire : 180 euros TVAC les 2 jours\nTarif auditeur : 30 euros / jour\nPossibilité de travailler avec un jeune cheval de l’écurie: 30 euros le week-end \nEcurie du Tit’Horse – Croix-Lez-Rouveroy \nInfos et réservations : www.equi-claire.be – Claire Stevenaert – 0473/622.422 – infos@equi-claire.be
URL:https://www.equi-claire.be/event/stage-initiation-special-poulain-2/
LOCATION:Ecurie du Tit’Horse\, Rue du Village 1\, Croix-Lez-Rouveroy\, Hainaut\, Belgium
CATEGORIES:Poulains,Stage tous publics,Stages
ATTACH;FMTTYPE=image/jpeg:https://www.equi-claire.be/wp-content/uploads/2017/03/poulain.jpg
ORGANIZER;CN="Equi Claire":MAILTO:contact@equi-claire.be
END:VEVENT
END:VCALENDAR