BEGIN:VCALENDAR
VERSION:2.0
PRODID:-//Equitation comportementale - ECPv6.15.17.1//NONSGML v1.0//EN
CALSCALE:GREGORIAN
METHOD:PUBLISH
X-WR-CALNAME:Equitation comportementale
X-ORIGINAL-URL:https://www.equi-claire.be
X-WR-CALDESC:Évènements pour Equitation comportementale
REFRESH-INTERVAL;VALUE=DURATION:PT1H
X-Robots-Tag:noindex
X-PUBLISHED-TTL:PT1H
BEGIN:VTIMEZONE
TZID:Europe/Paris
BEGIN:DAYLIGHT
TZOFFSETFROM:+0100
TZOFFSETTO:+0200
TZNAME:CEST
DTSTART:20170326T010000
END:DAYLIGHT
BEGIN:STANDARD
TZOFFSETFROM:+0200
TZOFFSETTO:+0100
TZNAME:CET
DTSTART:20171029T010000
END:STANDARD
BEGIN:DAYLIGHT
TZOFFSETFROM:+0100
TZOFFSETTO:+0200
TZNAME:CEST
DTSTART:20180325T010000
END:DAYLIGHT
BEGIN:STANDARD
TZOFFSETFROM:+0200
TZOFFSETTO:+0100
TZNAME:CET
DTSTART:20181028T010000
END:STANDARD
BEGIN:DAYLIGHT
TZOFFSETFROM:+0100
TZOFFSETTO:+0200
TZNAME:CEST
DTSTART:20190331T010000
END:DAYLIGHT
BEGIN:STANDARD
TZOFFSETFROM:+0200
TZOFFSETTO:+0100
TZNAME:CET
DTSTART:20191027T010000
END:STANDARD
END:VTIMEZONE
BEGIN:VEVENT
DTSTART;TZID=Europe/Paris:20180908T090000
DTEND;TZID=Europe/Paris:20180909T180000
DTSTAMP:20260425T212434
CREATED:20170314T121132Z
LAST-MODIFIED:20180314T185630Z
UID:26943-1536397200-1536516000@www.equi-claire.be
SUMMARY:Formation "Connaissances et pratique éthologique" I  Stage 3/5
DESCRIPTION:Cet événement concerne les personnes inscrites à la Formation Modulaire en Connaissances et pratique éthologique I qui se déroule à l’Ecurie du Tit’Horse Croix-Lez-Rouveroy \nLa formation « Connaissances et pratique éthologique » est proposée par Claire Stevenaert et Alexandre Declercq. Elle est ouverte aux enseignants et cavaliers désireux d’appréhender le cheval et son travail via une pédagogie et un enseignement différent. \nAu cours de cette formation\, les programmes des Savoirs d’Equitation Ethologique sont abordés et mis en pratique. Sur demande\, Claire peut faire passer les examens des Savoirs en collaboration avec l’Académie d’Enseignement Comportemental de Firfol (Normandie). \nStage 3 : Initiation Monté (NB : Correspond au Savoir Ethologique 3) : \nConnaitre le rythme de vie du cheval au naturel\, les différents modes de vie du cheval domestiqué et les stéréotypies.\nTransposer l’éducation du cheval au sol au travail monté dans la décontraction (dans le respect des principes d’apprentissage) :\nContrôle du cheval dans l’allure et direction\nDécouvrir les notions d’équitation centrée. \n  \nTARIF DE BASE \nLa formation « Connaissances et pratique éthologique » revient à 1.000 euros TVAC.\nCelle-ci comprend :\n– les 10 journées de stage de 9h00 à 18h00\n– des supports théoriques \nSuppléments : \nL’hébergement de votre cheval\, la location d’un cheval et les éventuels repas seront à compter en supplément.. \nLes dates : \n– 5-6 mai 2018\n– 16-17 juin 2018\n– 8-9 septembre 2018\n– 13-14 octobre 2018\n– 17-18 novembre 2018 \nMAXIMUM 6 PERSONNES \nToutes les infos : http://www.equi-claire.be/formations/
URL:https://www.equi-claire.be/event/formation-modulaire-connaissances-et-pratique-ethologique-1-5-2-3/
LOCATION:Ecurie du Tit’Horse\, Rue du Village 1\, Croix-Lez-Rouveroy\, Hainaut\, Belgium
CATEGORIES:Formation
ATTACH;FMTTYPE=image/jpeg:https://www.equi-claire.be/wp-content/uploads/2016/09/74_JPG-scaled.jpg
ORGANIZER;CN="Equi Claire":MAILTO:contact@equi-claire.be
END:VEVENT
BEGIN:VEVENT
DTSTART;TZID=Europe/Paris:20180915T093000
DTEND;TZID=Europe/Paris:20180916T173000
DTSTAMP:20260425T212434
CREATED:20170215T115348Z
LAST-MODIFIED:20180515T110926Z
UID:27093-1537003800-1537119000@www.equi-claire.be
SUMMARY:Stage travail au sol niveau 1
DESCRIPTION:Durant deux jours\, vous allez apprendre les bases de l’équitation éthologique : obtenir la confiance et le respect mutuels avec votre cheval. \nVous allez alterner des séances de travail avec les chevaux et des séances de gestuelle afin de vous familiariser avec les différents outils. Vous découvrirez essentiellement comment communiquer avec votre partenaire équin grâce au travail au sol. \nUne petite séance de théorie vous permettra aussi d’approfondir vos connaissances du monde du cheval. \nCe stage est ouvert à toute personne désirant approfondir sa relation avec les chevaux\, cavaliers ou non cavaliers\, quelle que soit la discipline. \nExemple d’une journée de stage : \nAccueil et présentation du stage\nSéance de gestuelle\nAbord du cheval – séance d’observation\nSéance de travail à pied\nPause du midi\nThéorie éthologique du cheval\nSéance de gestuelle\nSéance de travail à pied \n  \nTarif: 195€ repas compris et pension de votre cheval ou “emprunt” d’un des nôtres pour les participants. (nombre limité à 6 participants) \n25 € par jour pour les auditeurs. \nInfos et Inscriptions : https://www.equichance.net/contact/contact/ – Christelle Denamur 0032 476 995 842 – https://www.facebook.com/equichanceasbl/
URL:https://www.equi-claire.be/event/stage-travail-sol-1-2-2/
LOCATION:ASBL Equi’Chance\, 9\, rue de la Barrière\, Romedenne\, equichance@yahoo.fr\, 5600\, Belgium
CATEGORIES:Stage tous publics,Stages,Travail au sol
ATTACH;FMTTYPE=image/jpeg:https://www.equi-claire.be/wp-content/uploads/2017/01/init-sol.jpg
END:VEVENT
END:VCALENDAR