BEGIN:VCALENDAR
VERSION:2.0
PRODID:-//Equitation comportementale - ECPv6.15.17.1//NONSGML v1.0//EN
CALSCALE:GREGORIAN
METHOD:PUBLISH
X-WR-CALNAME:Equitation comportementale
X-ORIGINAL-URL:https://www.equi-claire.be
X-WR-CALDESC:Évènements pour Equitation comportementale
REFRESH-INTERVAL;VALUE=DURATION:PT1H
X-Robots-Tag:noindex
X-PUBLISHED-TTL:PT1H
BEGIN:VTIMEZONE
TZID:Europe/Paris
BEGIN:DAYLIGHT
TZOFFSETFROM:+0100
TZOFFSETTO:+0200
TZNAME:CEST
DTSTART:20170326T010000
END:DAYLIGHT
BEGIN:STANDARD
TZOFFSETFROM:+0200
TZOFFSETTO:+0100
TZNAME:CET
DTSTART:20171029T010000
END:STANDARD
BEGIN:DAYLIGHT
TZOFFSETFROM:+0100
TZOFFSETTO:+0200
TZNAME:CEST
DTSTART:20180325T010000
END:DAYLIGHT
BEGIN:STANDARD
TZOFFSETFROM:+0200
TZOFFSETTO:+0100
TZNAME:CET
DTSTART:20181028T010000
END:STANDARD
BEGIN:DAYLIGHT
TZOFFSETFROM:+0100
TZOFFSETTO:+0200
TZNAME:CEST
DTSTART:20190331T010000
END:DAYLIGHT
BEGIN:STANDARD
TZOFFSETFROM:+0200
TZOFFSETTO:+0100
TZNAME:CET
DTSTART:20191027T010000
END:STANDARD
END:VTIMEZONE
BEGIN:VEVENT
DTSTART;TZID=Europe/Paris:20181013T090000
DTEND;TZID=Europe/Paris:20181014T180000
DTSTAMP:20260425T192814
CREATED:20170314T121132Z
LAST-MODIFIED:20180314T185734Z
UID:26947-1539421200-1539540000@www.equi-claire.be
SUMMARY:Formation "Connaissances et pratique éthologique" I  Stage 4/5
DESCRIPTION:Cet événement concerne les personnes inscrites à la Formation Modulaire en Connaissances et pratique éthologique I qui se déroule à l’Ecurie du Tit’Horse Croix-Lez-Rouveroy \nLa formation « Connaissances et pratique éthologique » est proposée par Claire Stevenaert et Alexandre Declercq. Elle est ouverte aux enseignants et cavaliers désireux d’appréhender le cheval et son travail via une pédagogie et un enseignement différent. \nAu cours de cette formation\, les programmes des Savoirs d’Equitation Ethologique sont abordés et mis en pratique. Sur demande\, Claire peut faire passer les examens des Savoirs en collaboration avec l’Académie d’Enseignement Comportemental de Firfol (Normandie). \nStage 4 : Evolution monté (NB : correspond à la fin du Savoirs 3 et au Savoir 4). : \nPerfectionnement théorique à définir en fonction de ce qui aura été vu dans les premiers stages.\nEvolution du travail monté :\nMise en main\nIncurvation\nPréparation au travail en cordelette\nEquitation centrée\nInitiation au travail aux longues rênes en licol \nTARIF DE BASE \nLa formation « Connaissances et pratique éthologique » revient à 1.000 euros TVAC.\nCelle-ci comprend :\n– les 10 journées de stage de 9h00 à 18h00\n– des supports théoriques \nSuppléments : \nL’hébergement de votre cheval\, la location d’un cheval et les éventuels repas seront à compter en supplément.. \nLes dates : \n– 5-6 mai 2018\n– 16-17 juin 2018\n– 8-9 septembre 2018\n– 13-14 octobre 2018\n– 17-18 novembre 2018 \nMAXIMUM 6 PERSONNES \nToutes les infos : http://www.equi-claire.be/formations/
URL:https://www.equi-claire.be/event/formation-modulaire-connaissances-et-pratique-ethologique-1-5-2-4/
LOCATION:Ecurie du Tit’Horse\, Rue du Village 1\, Croix-Lez-Rouveroy\, Hainaut\, Belgium
CATEGORIES:Formation
ATTACH;FMTTYPE=image/jpeg:https://www.equi-claire.be/wp-content/uploads/2016/09/74_JPG-scaled.jpg
ORGANIZER;CN="Equi Claire":MAILTO:contact@equi-claire.be
END:VEVENT
END:VCALENDAR