BEGIN:VCALENDAR
VERSION:2.0
PRODID:-//Equitation comportementale - ECPv6.15.17.1//NONSGML v1.0//EN
CALSCALE:GREGORIAN
METHOD:PUBLISH
X-WR-CALNAME:Equitation comportementale
X-ORIGINAL-URL:https://www.equi-claire.be
X-WR-CALDESC:Évènements pour Equitation comportementale
REFRESH-INTERVAL;VALUE=DURATION:PT1H
X-Robots-Tag:noindex
X-PUBLISHED-TTL:PT1H
BEGIN:VTIMEZONE
TZID:Europe/Paris
BEGIN:DAYLIGHT
TZOFFSETFROM:+0100
TZOFFSETTO:+0200
TZNAME:CEST
DTSTART:20170326T010000
END:DAYLIGHT
BEGIN:STANDARD
TZOFFSETFROM:+0200
TZOFFSETTO:+0100
TZNAME:CET
DTSTART:20171029T010000
END:STANDARD
BEGIN:DAYLIGHT
TZOFFSETFROM:+0100
TZOFFSETTO:+0200
TZNAME:CEST
DTSTART:20180325T010000
END:DAYLIGHT
BEGIN:STANDARD
TZOFFSETFROM:+0200
TZOFFSETTO:+0100
TZNAME:CET
DTSTART:20181028T010000
END:STANDARD
BEGIN:DAYLIGHT
TZOFFSETFROM:+0100
TZOFFSETTO:+0200
TZNAME:CEST
DTSTART:20190331T010000
END:DAYLIGHT
BEGIN:STANDARD
TZOFFSETFROM:+0200
TZOFFSETTO:+0100
TZNAME:CET
DTSTART:20191027T010000
END:STANDARD
END:VTIMEZONE
BEGIN:VEVENT
DTSTART;TZID=Europe/Paris:20181117T090000
DTEND;TZID=Europe/Paris:20181118T180000
DTSTAMP:20260425T180328
CREATED:20170314T121132Z
LAST-MODIFIED:20180314T185850Z
UID:26949-1542445200-1542564000@www.equi-claire.be
SUMMARY:Formation "Connaissances et pratique éthologique" I  Stage 5/5
DESCRIPTION:Cet événement concerne les personnes inscrites à la Formation Modulaire en Connaissances et pratique éthologique I qui se déroule à l’Ecurie du Tit’Horse Croix-Lez-Rouveroy \nLa formation « Connaissances et pratique éthologique » est proposée par Claire Stevenaert et Alexandre Declercq. Elle est ouverte aux enseignants et cavaliers désireux d’appréhender le cheval et son travail via une pédagogie et un enseignement différent. \nAu cours de cette formation\, les programmes des Savoirs d’Equitation Ethologique sont abordés et mis en pratique. Sur demande\, Claire peut faire passer les examens des Savoirs en collaboration avec l’Académie d’Enseignement Comportemental de Firfol (Normandie). \nStage 5 : Liberté au sol et perfectionnement à la longe (NB : Correspond au Savoir 4). \nPerfectionnement théorique à définir en fonction de ce qui aura été vu dans les premiers stages.\nEvolution du travail en liberté\nPerfectionnement au travail à distance\nPerfectionnement au travail en longues rênes \nTARIF DE BASE \nLa formation « Connaissances et pratique éthologique » revient à 1.000 euros TVAC.\nCelle-ci comprend :\n– les 10 journées de stage de 9h00 à 18h00\n– des supports théoriques \nSuppléments : \nL’hébergement de votre cheval\, la location d’un cheval et les éventuels repas seront à compter en supplément.. \nLes dates : \n– 5-6 mai 2018\n– 16-17 juin 2018\n– 8-9 septembre 2018\n– 13-14 octobre 2018\n– 17-18 novembre 2018 \nMAXIMUM 6 PERSONNES \nToutes les infos : http://www.equi-claire.be/formations/
URL:https://www.equi-claire.be/event/formation-modulaire-connaissances-et-pratique-ethologique-1-5-2-5/
LOCATION:Ecurie du Tit’Horse\, Rue du Village 1\, Croix-Lez-Rouveroy\, Hainaut\, Belgium
CATEGORIES:Formation
ATTACH;FMTTYPE=image/jpeg:https://www.equi-claire.be/wp-content/uploads/2016/09/74_JPG-scaled.jpg
ORGANIZER;CN="Equi Claire":MAILTO:contact@equi-claire.be
END:VEVENT
BEGIN:VEVENT
DTSTART;TZID=Europe/Paris:20181124T090000
DTEND;TZID=Europe/Paris:20181125T180000
DTSTAMP:20260425T180328
CREATED:20180312T172126Z
LAST-MODIFIED:20180314T175518Z
UID:26900-1543050000-1543168800@www.equi-claire.be
SUMMARY:Formation Pro 4/4
DESCRIPTION:La Formation « Pro » en Equitation Comportementale proposée par Claire Stevenaert et Alexandre Declercq vise à former des futurs éducateurs équins ainsi que des enseignants qualifiés en équitation dite éthologique.\nPour ce faire\, les candidats devront acquérir différentes compétences : techniques\, théoriques et pédagogiques. \nLes compétences techniques :\nElle doivent d’abord êtres acquises avec un cheval. Il faut connaître et comprendre le cheminement éducatif de la formation d’un cheval. Plusieurs possibilités sont proposés afin de les acquérir :\nles formations modulaires\ndes cours particuliers\ndes stages et des cours\ndes formations à la carte\nou la validation des compétences déjà acquises\nEnsuite il faudra être capable de reproduire ce cheminement éducatif sur n’importe quel cheval.\nNous vous proposons pour cela : \ndes stages « pros »\ndes formations à la carte\nou la validation des compétences déjà acquises\n2. Les compétences théoriques :\nCelles-ci peuvent être acquises :\n– lors des stages ou formations modulaires\n– en auto didactes par vos lectures personnelles \n3. Les compétences pédagogiques :\nElles seront développées lors des stages pro : \n3 week-end de formation « Pédagogie et travail des chevaux » :\nLors de ces week-end vous alternerez des cours de pédagogie et de coaching avec des séances d’entraînements de plusieurs chevaux de caractères et âges différents.\n24-25 février 2018\n24-25 mars 2018\n24-25 novembre 2018\n5 journées de formation « Débourrage » :\ndu 4 au 8 avril 2018 (jours supplémentaires envisageables gratuitement) \nNOMBRE D’INSCRITS MAXIMUM DÉJÀ ATTEINT – FORMATION EN COURS \n 
URL:https://www.equi-claire.be/event/formation-pro-2-3/
LOCATION:Ecurie du Tit’Horse\, Rue du Village 1\, Croix-Lez-Rouveroy\, Hainaut\, Belgium
CATEGORIES:Formation
ATTACH;FMTTYPE=image/jpeg:https://www.equi-claire.be/wp-content/uploads/2018/03/28870034_432838740480950_5031103560000867913_n.jpg
ORGANIZER;CN="Equi Claire":MAILTO:contact@equi-claire.be
END:VEVENT
END:VCALENDAR