BEGIN:VCALENDAR
VERSION:2.0
PRODID:-//Equitation comportementale - ECPv6.15.17.1//NONSGML v1.0//EN
CALSCALE:GREGORIAN
METHOD:PUBLISH
X-ORIGINAL-URL:https://www.equi-claire.be
X-WR-CALDESC:Évènements pour Equitation comportementale
REFRESH-INTERVAL;VALUE=DURATION:PT1H
X-Robots-Tag:noindex
X-PUBLISHED-TTL:PT1H
BEGIN:VTIMEZONE
TZID:Europe/Paris
BEGIN:DAYLIGHT
TZOFFSETFROM:+0100
TZOFFSETTO:+0200
TZNAME:CEST
DTSTART:20180325T010000
END:DAYLIGHT
BEGIN:STANDARD
TZOFFSETFROM:+0200
TZOFFSETTO:+0100
TZNAME:CET
DTSTART:20181028T010000
END:STANDARD
BEGIN:DAYLIGHT
TZOFFSETFROM:+0100
TZOFFSETTO:+0200
TZNAME:CEST
DTSTART:20190331T010000
END:DAYLIGHT
BEGIN:STANDARD
TZOFFSETFROM:+0200
TZOFFSETTO:+0100
TZNAME:CET
DTSTART:20191027T010000
END:STANDARD
BEGIN:DAYLIGHT
TZOFFSETFROM:+0100
TZOFFSETTO:+0200
TZNAME:CEST
DTSTART:20200329T010000
END:DAYLIGHT
BEGIN:STANDARD
TZOFFSETFROM:+0200
TZOFFSETTO:+0100
TZNAME:CET
DTSTART:20201025T010000
END:STANDARD
END:VTIMEZONE
BEGIN:VEVENT
DTSTART;TZID=Europe/Paris:20190608T093000
DTEND;TZID=Europe/Paris:20190609T173000
DTSTAMP:20260425T053415
CREATED:20170215T115348Z
LAST-MODIFIED:20190417T181840Z
UID:27275-1559986200-1560101400@www.equi-claire.be
SUMMARY:Stage travail au sol niveau 1
DESCRIPTION:Durant deux jours\, vous allez apprendre les bases de l’équitation éthologique : obtenir la confiance et le respect mutuels avec votre cheval. \nVous allez alterner des séances de travail avec les chevaux et des séances de gestuelle afin de vous familiariser avec les différents outils. Vous découvrirez essentiellement comment communiquer avec votre partenaire équin grâce au travail au sol. \nUne petite séance de théorie vous permettra aussi d’approfondir vos connaissances du monde du cheval. \nCe stage est ouvert à toute personne désirant approfondir sa relation avec les chevaux\, cavaliers ou non cavaliers\, quelle que soit la discipline. \nExemple d’une journée de stage : \nAccueil et présentation du stage\nSéance de gestuelle\nAbord du cheval – séance d’observation\nSéance de travail à pied\nPause du midi\nThéorie éthologique du cheval\nSéance de gestuelle\nSéance de travail à pied \nTarif :\n180 euros TVAC par stagiaire avec cheval\n30 euros de location de cheval ou de box \n25 euros /jour pour les auditeurs \nInfos et réservations : www.equi-claire.be – Claire Stevenaert – 0473/622.422 – contact@equi-claire.be
URL:https://www.equi-claire.be/event/stage-travail-sol-2019-2/
LOCATION:Ecurie du Tit’Horse\, Rue du Village 1\, Croix-Lez-Rouveroy\, Hainaut\, Belgium
CATEGORIES:Stage tous publics,Stages,Travail au sol
ATTACH;FMTTYPE=image/jpeg:https://www.equi-claire.be/wp-content/uploads/2017/01/init-sol.jpg
ORGANIZER;CN="Equi Claire":MAILTO:contact@equi-claire.be
END:VEVENT
BEGIN:VEVENT
DTSTART;TZID=Europe/Paris:20190608T093000
DTEND;TZID=Europe/Paris:20190609T173000
DTSTAMP:20260425T053415
CREATED:20170314T121132Z
LAST-MODIFIED:20190212T173937Z
UID:27244-1559986200-1560101400@www.equi-claire.be
SUMMARY:Formation "Connaissances et pratique éthologiques" I  Stage 2/5
DESCRIPTION:Cet événement concerne les personnes inscrites à la Formation Modulaire en Connaissances et pratique éthologiques I  \nLa formation « Connaissances et pratique éthologique » est proposée par Claire Stevenaert et Alexandre Declercq. Elle est ouverte aux enseignants et cavaliers désireux d’appréhender le cheval et son travail via une pédagogie et un enseignement différent. \nAu cours de cette formation\, les programmes des Savoirs d’Equitation Ethologique sont abordés et mis en pratique. Sur demande\, Claire peut faire passer les examens des Savoirs en collaboration avec l’Académie d’Enseignement Comportemental de Firfol (Normandie). \nStage 2 : Evolution au Sol (NB : Correspond à la fin du Savoir 2 et au début du Savoir 4) :\n« Connaitre le mode de vie du cheval au naturel et les variations de tempérament d’un individu à l’autre ». \nPerfectionner sa communication au sol (toujours sur les thèmes du respect et de la confiance) dans le respect des principes d’apprentissage.\nAdapter sa manière d’aborder le travail selon les tempéraments des chevaux (notions de horsenalities)\nMaîtriser les différents types de conduite des chevaux et comprendre leur intérêt :\nles différentes marches en main\,\nla conduite à distance\,\nInitiation au travail en liberté \nTARIF DE BASE \nLa formation « Connaissances et pratique éthologique » revient à 1.000 euros TVAC.\nCelle-ci comprend :\n– les 10 journées de stage de 9h00 à 18h00\n– des supports théoriques \nSuppléments : \nL’hébergement de votre cheval\, la location d’un cheval et les éventuels repas seront à compter en supplément.. \nLes dates : \n\n\n\n4-5 mai 2019\n8-9 juin 2019\n6-37 juillet 2019\n3-4 août 2019\n7-8 septembre 2019\n\nNOMBRE DE PERSONNES LIMITÉ\n\nToutes les infos : http://www.equi-claire.be/formations/
URL:https://www.equi-claire.be/event/formation-modulaire-connaissances-et-pratique-ethologique-1-5-2-2-2-2/
LOCATION:Dessine moi un cheval\, 4\, rue de Sébastopol\, Croix-lez-Rouveroy\, 7120\, Belgium
CATEGORIES:Formation
ATTACH;FMTTYPE=image/jpeg:https://www.equi-claire.be/wp-content/uploads/2016/09/74_JPG-scaled.jpg
ORGANIZER;CN="Equi Claire":MAILTO:contact@equi-claire.be
END:VEVENT
END:VCALENDAR