BEGIN:VCALENDAR
VERSION:2.0
PRODID:-//Equitation comportementale - ECPv6.15.17.1//NONSGML v1.0//EN
CALSCALE:GREGORIAN
METHOD:PUBLISH
X-ORIGINAL-URL:https://www.equi-claire.be
X-WR-CALDESC:Évènements pour Equitation comportementale
REFRESH-INTERVAL;VALUE=DURATION:PT1H
X-Robots-Tag:noindex
X-PUBLISHED-TTL:PT1H
BEGIN:VTIMEZONE
TZID:Europe/Paris
BEGIN:DAYLIGHT
TZOFFSETFROM:+0100
TZOFFSETTO:+0200
TZNAME:CEST
DTSTART:20180325T010000
END:DAYLIGHT
BEGIN:STANDARD
TZOFFSETFROM:+0200
TZOFFSETTO:+0100
TZNAME:CET
DTSTART:20181028T010000
END:STANDARD
BEGIN:DAYLIGHT
TZOFFSETFROM:+0100
TZOFFSETTO:+0200
TZNAME:CEST
DTSTART:20190331T010000
END:DAYLIGHT
BEGIN:STANDARD
TZOFFSETFROM:+0200
TZOFFSETTO:+0100
TZNAME:CET
DTSTART:20191027T010000
END:STANDARD
BEGIN:DAYLIGHT
TZOFFSETFROM:+0100
TZOFFSETTO:+0200
TZNAME:CEST
DTSTART:20200329T010000
END:DAYLIGHT
BEGIN:STANDARD
TZOFFSETFROM:+0200
TZOFFSETTO:+0100
TZNAME:CET
DTSTART:20201025T010000
END:STANDARD
END:VTIMEZONE
BEGIN:VEVENT
DTSTART;TZID=Europe/Paris:20190907T093000
DTEND;TZID=Europe/Paris:20190908T173000
DTSTAMP:20260425T002538
CREATED:20170314T121132Z
LAST-MODIFIED:20190212T174504Z
UID:27247-1567848600-1567963800@www.equi-claire.be
SUMMARY:Formation "Connaissances et pratique éthologiques" I  Stage 5/5
DESCRIPTION:Cet événement concerne les personnes inscrites à la Formation Modulaire en Connaissances et pratique éthologique I qui se déroule à l’Ecurie du Tit’Horse Croix-Lez-Rouveroy \nLa formation « Connaissances et pratique éthologique » est proposée par Claire Stevenaert et Alexandre Declercq. Elle est ouverte aux enseignants et cavaliers désireux d’appréhender le cheval et son travail via une pédagogie et un enseignement différent. \nAu cours de cette formation\, les programmes des Savoirs d’Equitation Ethologique sont abordés et mis en pratique. Sur demande\, Claire peut faire passer les examens des Savoirs en collaboration avec l’Académie d’Enseignement Comportemental de Firfol (Normandie). \nStage 5 : Liberté au sol et perfectionnement à la longe (NB : Correspond au Savoir 4). \nPerfectionnement théorique à définir en fonction de ce qui aura été vu dans les premiers stages.\nEvolution du travail en liberté\nPerfectionnement au travail à distance\nPerfectionnement au travail en longues rênes \nTARIF DE BASE \nLa formation « Connaissances et pratique éthologique » revient à 1.000 euros TVAC.\nCelle-ci comprend :\n– les 10 journées de stage de 9h00 à 18h00\n– des supports théoriques \nSuppléments : \nL’hébergement de votre cheval\, la location d’un cheval et les éventuels repas seront à compter en supplément.. \nLes dates : \n\n\n\n4-5 mai 2019\n8-9 juin 2019\n6-37 juillet 2019\n3-4 août 2019\n7-8 septembre 2019\n\nNOMBRE DE PERSONNES LIMITÉ\n\nToutes les infos : http://www.equi-claire.be/formations/
URL:https://www.equi-claire.be/event/formation-modulaire-connaissances-et-pratique-ethologique-1-5-2-5-2-2/
LOCATION:Dessine moi un cheval\, 4\, rue de Sébastopol\, Croix-lez-Rouveroy\, 7120\, Belgium
CATEGORIES:Formation
ATTACH;FMTTYPE=image/jpeg:https://www.equi-claire.be/wp-content/uploads/2016/09/74_JPG-scaled.jpg
ORGANIZER;CN="Equi Claire":MAILTO:contact@equi-claire.be
END:VEVENT
BEGIN:VEVENT
DTSTART;TZID=Europe/Paris:20190914T093000
DTEND;TZID=Europe/Paris:20190915T173000
DTSTAMP:20260425T002538
CREATED:20170215T115348Z
LAST-MODIFIED:20190816T101222Z
UID:27277-1568453400-1568568600@www.equi-claire.be
SUMMARY:Stage travail au sol niveau 1
DESCRIPTION:Durant deux jours\, vous allez apprendre les bases de l’équitation éthologique : obtenir la confiance et le respect mutuels avec votre cheval. \nVous allez alterner des séances de travail avec les chevaux et des séances de gestuelle afin de vous familiariser avec les différents outils. Vous découvrirez essentiellement comment communiquer avec votre partenaire équin grâce au travail au sol. \nUne petite séance de théorie vous permettra aussi d’approfondir vos connaissances du monde du cheval. \nCe stage est ouvert à toute personne désirant approfondir sa relation avec les chevaux\, cavaliers ou non cavaliers\, quelle que soit la discipline. \nExemple d’une journée de stage : \nAccueil et présentation du stage\nSéance de gestuelle\nAbord du cheval – séance d’observation\nSéance de travail à pied\nPause du midi\nThéorie éthologique du cheval\nSéance de gestuelle\nSéance de travail à pied \nTarif :\n180 euros TVAC par stagiaire avec cheval\n30 euros de location de cheval\n40 euros pour l’hébergement en paddock + box\n20 euros pour l’hébergement en paddock \n25 euros /jour pour les auditeurs \nInfos et réservations : www.equi-claire.be – Claire Stevenaert – 0473/622.422 – contact@equi-claire.be
URL:https://www.equi-claire.be/event/stage-travail-sol-2019-3/
LOCATION:Donstiennes\, rue couture 144\, Donstiennes\, 6536\, Belgique
CATEGORIES:Stage tous publics,Stages,Travail au sol
ATTACH;FMTTYPE=image/jpeg:https://www.equi-claire.be/wp-content/uploads/2017/01/init-sol.jpg
ORGANIZER;CN="Equi Claire":MAILTO:contact@equi-claire.be
END:VEVENT
BEGIN:VEVENT
DTSTART;TZID=Europe/Paris:20190921T093000
DTEND;TZID=Europe/Paris:20190922T173000
DTSTAMP:20260425T002538
CREATED:20180320T150126Z
LAST-MODIFIED:20190825T101759Z
UID:27365-1569058200-1569173400@www.equi-claire.be
SUMMARY:Stage Equifeel
DESCRIPTION:Nous vous proposons un stage d’Equifeel à l’écurie du moulin de Donstiennes\nNous prévoyons de faire plusieurs groupes selon les niveaux (avec rappel théorique pour ceux qui découvrent la discipline).\nDes épreuves d’Equifeel\, seront installées dans la piste\, le rond de longe et le paddock.\nLe travail sera individualisé pour chaque couple piéton-cheval avec des conseils personnalisés.\nLe stage sera encadré par Claire Stevenaert\, Alexandre Declercq\, Isabelle Hembersin et des assistantes.Il est souhaitable de maîtriser les bases du travail au sol pour participer à ce stage. \nTarifs:\n– 150 euros pour les deux jours (85 euros / la journée (samedi ou dimanche))\n– 15 euros / jour de location d’un cheval d’école\n– 10 euros / jour pour l’hébergement du cheval en paddock individuel en herbe\n– 20 euros / jour-nuit pour l’hébergement du cheval en boxe avec grain et foin la nuit et paddock individuel en herbe la journée\n– 20 euros / jour en auditeur \nLe même type de stage peut aussi être organisé dans votre écurie\, nous contacter. \nPour réserver : contact@equi-claire.be
URL:https://www.equi-claire.be/event/stage-equifeel-2/
LOCATION:Donstiennes\, rue couture 144\, Donstiennes\, 6536\, Belgique
CATEGORIES:Equifeel,Stage tous publics,Stages
ATTACH;FMTTYPE=image/jpeg:https://www.equi-claire.be/wp-content/uploads/2018/03/equifeel1.jpg
ORGANIZER;CN="Equi Claire":MAILTO:contact@equi-claire.be
END:VEVENT
END:VCALENDAR