BEGIN:VCALENDAR
VERSION:2.0
PRODID:-//Equitation comportementale - ECPv6.15.17.1//NONSGML v1.0//EN
CALSCALE:GREGORIAN
METHOD:PUBLISH
X-ORIGINAL-URL:https://www.equi-claire.be
X-WR-CALDESC:Évènements pour Equitation comportementale
REFRESH-INTERVAL;VALUE=DURATION:PT1H
X-Robots-Tag:noindex
X-PUBLISHED-TTL:PT1H
BEGIN:VTIMEZONE
TZID:Europe/Paris
BEGIN:DAYLIGHT
TZOFFSETFROM:+0100
TZOFFSETTO:+0200
TZNAME:CEST
DTSTART:20190331T010000
END:DAYLIGHT
BEGIN:STANDARD
TZOFFSETFROM:+0200
TZOFFSETTO:+0100
TZNAME:CET
DTSTART:20191027T010000
END:STANDARD
BEGIN:DAYLIGHT
TZOFFSETFROM:+0100
TZOFFSETTO:+0200
TZNAME:CEST
DTSTART:20200329T010000
END:DAYLIGHT
BEGIN:STANDARD
TZOFFSETFROM:+0200
TZOFFSETTO:+0100
TZNAME:CET
DTSTART:20201025T010000
END:STANDARD
BEGIN:DAYLIGHT
TZOFFSETFROM:+0100
TZOFFSETTO:+0200
TZNAME:CEST
DTSTART:20210328T010000
END:DAYLIGHT
BEGIN:STANDARD
TZOFFSETFROM:+0200
TZOFFSETTO:+0100
TZNAME:CET
DTSTART:20211031T010000
END:STANDARD
END:VTIMEZONE
BEGIN:VTIMEZONE
TZID:Europe/Brussels
BEGIN:DAYLIGHT
TZOFFSETFROM:+0100
TZOFFSETTO:+0200
TZNAME:CEST
DTSTART:20190331T010000
END:DAYLIGHT
BEGIN:STANDARD
TZOFFSETFROM:+0200
TZOFFSETTO:+0100
TZNAME:CET
DTSTART:20191027T010000
END:STANDARD
BEGIN:DAYLIGHT
TZOFFSETFROM:+0100
TZOFFSETTO:+0200
TZNAME:CEST
DTSTART:20200329T010000
END:DAYLIGHT
BEGIN:STANDARD
TZOFFSETFROM:+0200
TZOFFSETTO:+0100
TZNAME:CET
DTSTART:20201025T010000
END:STANDARD
BEGIN:DAYLIGHT
TZOFFSETFROM:+0100
TZOFFSETTO:+0200
TZNAME:CEST
DTSTART:20210328T010000
END:DAYLIGHT
BEGIN:STANDARD
TZOFFSETFROM:+0200
TZOFFSETTO:+0100
TZNAME:CET
DTSTART:20211031T010000
END:STANDARD
END:VTIMEZONE
BEGIN:VEVENT
DTSTART;TZID=Europe/Paris:20200801T093000
DTEND;TZID=Europe/Paris:20200802T173000
DTSTAMP:20260424T061651
CREATED:20170215T115348Z
LAST-MODIFIED:20200701T091558Z
UID:27574-1596274200-1596389400@www.equi-claire.be
SUMMARY:Stage travail au sol niveau 1
DESCRIPTION:Durant deux jours\, vous allez apprendre les bases de l’équitation éthologique : obtenir la confiance et le respect mutuels avec votre cheval. \nVous allez alterner des séances de travail avec les chevaux et des séances de gestuelle afin de vous familiariser avec les différents outils. Vous découvrirez essentiellement comment communiquer avec votre partenaire équin grâce au travail au sol. \nUne petite séance de théorie vous permettra aussi d’approfondir vos connaissances du monde du cheval. \nCe stage est ouvert à toute personne désirant approfondir sa relation avec les chevaux\, cavaliers ou non cavaliers\, quelle que soit la discipline. \nExemple d’une journée de stage : \nAccueil et présentation du stage\nSéance de gestuelle\nAbord du cheval – séance d’observation\nSéance de travail à pied\nPause du midi\nThéorie éthologique du cheval\nSéance de gestuelle\nSéance de travail à pied \nMaximum 8 couples cheval / cavalier \nTarif :\n200 euros TVAC par stagiaire avec cheval\n30 euros de location de cheval\n30 euros pour l’hébergement\n4\,5 euros par repas de midi \n35 euros /jour pour les auditeurs ou 60 euros pour le week-end \nInfos et réservations : www.equi-claire.be – Claire Stevenaert – 0473/622.422 – contact@equi-claire.be
URL:https://www.equi-claire.be/event/stage-travail-sol-2020/
LOCATION:Ecurie de La Marcelle\, 164 route de Gosselies\, Fleurus\, Belgique
CATEGORIES:Stage tous publics,Stages,Travail au sol
ATTACH;FMTTYPE=image/jpeg:https://www.equi-claire.be/wp-content/uploads/2017/01/init-sol.jpg
ORGANIZER;CN="Equi Claire":MAILTO:contact@equi-claire.be
END:VEVENT
BEGIN:VEVENT
DTSTART;TZID=Europe/Brussels:20200810T093000
DTEND;TZID=Europe/Brussels:20200814T173000
DTSTAMP:20260424T061651
CREATED:20200702T121453Z
LAST-MODIFIED:20200702T122759Z
UID:27695-1597051800-1597426200@www.equi-claire.be
SUMMARY:Stage à la carte
DESCRIPTION:Claire Stevenaert et Alexandre Declercq vous proposent une semaine pour vous perfectionner dans la relation\, l’éducation et les performances avec votre cheval. \nDu 10 au 14 août 2020\, venez pour 1\, 2\, 3\, 4 ou 5 jours et prenez le nombre de cours particuliers que vous dédirez avec votre cheval et/ou un des nôtres. Profitez d’en apprendre plus en regardant les cours des autres participants et en passant des moments à échanger sur les différents problématiques que vous pouvez rencontrer. \nNous partons sur une base de cours particuliers mais si plusieurs personnes sont à un moment intéressé par un même sujet\, il sera possible d’organiser un cours collectif. \nTarifs : \n1 cours particulier / jour : 50 euros / jour\n2 cours particuliers / jour : 90 euros / jour\n3 cours particuliers / jour : 125 euros / jour \nHébergement de votre cheval : \nPaddock :10 euros / 24h\nBox la nuit + paddock le jours : 20 euros / 24h \nQuelques exemples de cours possibles : \nLors du travail au sol\, monté\, en liberté\, aux longues rênes\,… que ce soit au licol ou avec le mors nous pouvons vous aider à régler les problématiques que vous rencontrez et vous aider à motiver votre cheval dans le travail en adaptant les séances selon la horsenalities de votre cheval.\nNous pouvons aussi prévoir des séances d’équitation centrée.\nIl est également possible de régler des problèmes comportementaux inhérents à la préparation de votre cheval ou aux soins de celui-ci (éducation horsemanship\, perfectionnement clicker training\, medical training)… \nN’hésitez pas à nous faire part de vos envies et de voir avec vous ce qui est possible. \nInfos et réservations : www.equi-claire.be – Claire Stevenaert – 0473/622.422 – contact@equi-claire.be
URL:https://www.equi-claire.be/event/stage-a-la-carte/
LOCATION:Donstiennes\, rue couture 144\, Donstiennes\, 6536\, Belgique
CATEGORIES:Longues rênes,Perfectionnement,Stage tous publics,Stages,Travail au sol,Travail en liberté,Travail monté
ATTACH;FMTTYPE=image/jpeg:https://www.equi-claire.be/wp-content/uploads/2020/07/alex-claire.jpg
END:VEVENT
BEGIN:VEVENT
DTSTART;TZID=Europe/Brussels:20200822T093000
DTEND;TZID=Europe/Brussels:20200823T173000
DTSTAMP:20260424T061651
CREATED:20200827T081104Z
LAST-MODIFIED:20200827T082416Z
UID:28423-1598088600-1598203800@www.equi-claire.be
SUMMARY:Formation CPE cursus II - Weekend 1
DESCRIPTION:Formation CPE cursus II – Weekend 1\nCette formation est uniquement accessible aux personnes ayant suivi le cursus I\nLes objectifs sont le passage (facultatif) et la maîtrise des savoirs 3 et 4 ainsi que la préparation au savoir 5.\nLe savoir 3 correspond au travail monté au licol rênes longues (contrôle du cheval à l’assiette) .\nLe savoir 4 correspond au travail à distance (3m70\,7m)\, aux longues rênes et au travail en liberté (à distance dans le rond de longe\, en conduite proche dans la piste). \nTarifs :\n1400 euros TVAC pour les 5 week-ends\n(minimum 4 personnes\, maximum 6) \nSuppléments :\n– droit de piste : 20 euros / week-end\n– location de box ou paddock 20 à 40 euros / week-end \nLe lieu des stages sera confirmé week-end par week-end en fonction du programme abordé (et donc de l’infrastructure nécessaire) mais la région restera la même. \nCes tarifs ne sont proposés que pour cette session 2020.\nNous prévoyons une augmentation pour les futures sessions.\nClôture des inscriptions pour le 3 août 2020.
URL:https://www.equi-claire.be/event/formation-cpe-cursus-ii-weekend-1/
CATEGORIES:Formation
ATTACH;FMTTYPE=image/jpeg:https://www.equi-claire.be/wp-content/uploads/2018/02/DSC02888-scaled.jpg
END:VEVENT
BEGIN:VEVENT
DTSTART;TZID=Europe/Paris:20200829T093000
DTEND;TZID=Europe/Paris:20200830T173000
DTSTAMP:20260424T061651
CREATED:20170209T173922Z
LAST-MODIFIED:20200802T100150Z
UID:28011-1598693400-1598808600@www.equi-claire.be
SUMMARY:Stage "spécial désensibilitation"
DESCRIPTION:Deux journées de stage pour préparer votre cheval aux sorties en extérieur : balades ou concours \nAu programme : \nIl est possible de faire plusieurs groupes afin de gérer les attentes différentes des participants ( balade ou concours). Le planning précis sera défini en fonction des attentes des différents participants. \nNous aborderons les points suivants : \n– rappels théoriques sur les principes d’apprentissage et les différents tempéraments et personnalité du cheval\n– travail en piste de désensibilisation (bâche\, rubalise\, passage étroits\, …) : vérification du timing\, de la gestuelle\, ….\n– travail en piste : anticiper et gérer les réactions de stress du cheval monté (ou au sol)\n– travail sur la route\, habituation aux voitures et autres usagers de la route (tracteur\, remorques\, …) \nEncadrement :\nClaire Stevenaert (BFEE2 Firfol\, ….)\nAlexandre Declercq (formation Haras de La Cense) \nTarif participant avec cheval : 250 euros TVAC \nHébergement du cheval : 20 euros en paddock ou 40 euros en box + paddock. \nInfos et inscriptions : contact@equi-claire.be
URL:https://www.equi-claire.be/event/stage-special-desensibilitation-2/
LOCATION:Donstiennes\, rue couture 144\, Donstiennes\, 6536\, Belgique
CATEGORIES:Désensibilisation,Stage tous publics,Stages
ATTACH;FMTTYPE=image/jpeg:https://www.equi-claire.be/wp-content/uploads/2017/02/Désensibilisation.jpg
ORGANIZER;CN="Equi Claire":MAILTO:contact@equi-claire.be
END:VEVENT
END:VCALENDAR