BEGIN:VCALENDAR
VERSION:2.0
PRODID:-//Equitation comportementale - ECPv6.15.17.1//NONSGML v1.0//EN
CALSCALE:GREGORIAN
METHOD:PUBLISH
X-ORIGINAL-URL:https://www.equi-claire.be
X-WR-CALDESC:Évènements pour Equitation comportementale
REFRESH-INTERVAL;VALUE=DURATION:PT1H
X-Robots-Tag:noindex
X-PUBLISHED-TTL:PT1H
BEGIN:VTIMEZONE
TZID:Europe/Brussels
BEGIN:DAYLIGHT
TZOFFSETFROM:+0100
TZOFFSETTO:+0200
TZNAME:CEST
DTSTART:20190331T010000
END:DAYLIGHT
BEGIN:STANDARD
TZOFFSETFROM:+0200
TZOFFSETTO:+0100
TZNAME:CET
DTSTART:20191027T010000
END:STANDARD
BEGIN:DAYLIGHT
TZOFFSETFROM:+0100
TZOFFSETTO:+0200
TZNAME:CEST
DTSTART:20200329T010000
END:DAYLIGHT
BEGIN:STANDARD
TZOFFSETFROM:+0200
TZOFFSETTO:+0100
TZNAME:CET
DTSTART:20201025T010000
END:STANDARD
BEGIN:DAYLIGHT
TZOFFSETFROM:+0100
TZOFFSETTO:+0200
TZNAME:CEST
DTSTART:20210328T010000
END:DAYLIGHT
BEGIN:STANDARD
TZOFFSETFROM:+0200
TZOFFSETTO:+0100
TZNAME:CET
DTSTART:20211031T010000
END:STANDARD
END:VTIMEZONE
BEGIN:VEVENT
DTSTART;TZID=Europe/Brussels:20201114T093000
DTEND;TZID=Europe/Brussels:20201115T173000
DTSTAMP:20260424T010057
CREATED:20200827T090013Z
LAST-MODIFIED:20200827T090254Z
UID:28464-1605346200-1605461400@www.equi-claire.be
SUMMARY:Formation CPE Pro - cursus I - Weekend 2
DESCRIPTION:Les formations professionnelles en Équitation Éthologique proposées par Claire Stevenaert en collaboration avec Alexandre Declercq visent à former des futurs éducateurs équins ainsi que des enseignants qualifiés en équitation dite éthologique. \nLes objectifs des formations sont les suivants :\n– acquérir les connaissances et la pratique éthologique des 5 savoirs d’équitation éthologique de la fédération française d’équitation\n– acquérir une expérience pédagogique dans l’enseignement des 5 savoirs\n– acquérir des compétences de travail avec différents chevaux
URL:https://www.equi-claire.be/event/formation-cpe-pro-cursus-i-weekend-2/
LOCATION:Donstiennes\, rue couture 144\, Donstiennes\, 6536\, Belgique
CATEGORIES:Formation
ATTACH;FMTTYPE=image/jpeg:https://www.equi-claire.be/wp-content/uploads/2019/08/Fond-Alex-Claire.jpg
END:VEVENT
BEGIN:VEVENT
DTSTART;TZID=Europe/Brussels:20201121T093000
DTEND;TZID=Europe/Brussels:20201122T173000
DTSTAMP:20260424T010057
CREATED:20200827T081735Z
LAST-MODIFIED:20200827T082253Z
UID:28431-1605951000-1606066200@www.equi-claire.be
SUMMARY:Formation CPE cursus II - Weekend 4
DESCRIPTION:Formation CPE cursus II – Weekend 4\nCette formation est uniquement accessible aux personnes ayant suivi le cursus I
URL:https://www.equi-claire.be/event/formation-cpe-cursus-ii-weekend-4/
CATEGORIES:Formation
ATTACH;FMTTYPE=image/jpeg:https://www.equi-claire.be/wp-content/uploads/2018/02/DSC02888-scaled.jpg
END:VEVENT
BEGIN:VEVENT
DTSTART;TZID=Europe/Brussels:20201128T093000
DTEND;TZID=Europe/Brussels:20201129T173000
DTSTAMP:20260424T010057
CREATED:20200827T083913Z
LAST-MODIFIED:20200827T085217Z
UID:28447-1606555800-1606671000@www.equi-claire.be
SUMMARY:Formation CPE - Weekend 3
DESCRIPTION:La formation « Connaissances et pratique éthologique » est proposée par Claire Stevenaert et Alexandre Declercq. Elle est ouverte aux enseignants et cavaliers désireux d’appréhender le cheval et son travail via une pédagogie et un enseignement différent. \nAu cours de cette formation\, les programmes des Savoirs d’Equitation Ethologique sont abordés et mis en pratique. Sur demande\, Claire peut faire passer les examens des Savoirs en collaboration avec l’Académie d’Enseignement Comportemental de Firfol (Normandie).\nAu programme de la formation « Connaissances et pratique éthologique »\, sous réserve d’adaptations possibles : \n5 stages de 2 jours (de 9h30 à 17h30) : \nStage 3 : Initiation Monté (NB : Correspond au Savoir Ethologique 3) :\nConnaitre le rythme de vie du cheval au naturel\, les différents modes de vie du cheval domestiqué et les stéréotypies.\nTransposer l’éducation du cheval au sol au travail monté dans la décontraction (dans le respect des principes d’apprentissage) :\nContrôle du cheval dans l’allure et direction\nDécouvrir les notions d’équitation centrée.
URL:https://www.equi-claire.be/event/formation-cpe-weekend-3/
CATEGORIES:Formation
ATTACH;FMTTYPE=image/jpeg:https://www.equi-claire.be/wp-content/uploads/2020/08/79421892_827212267710260_7173656382976032768_o.jpg
END:VEVENT
END:VCALENDAR