BEGIN:VCALENDAR
VERSION:2.0
PRODID:-//Equitation comportementale - ECPv6.15.17.1//NONSGML v1.0//EN
CALSCALE:GREGORIAN
METHOD:PUBLISH
X-ORIGINAL-URL:https://www.equi-claire.be
X-WR-CALDESC:Évènements pour Equitation comportementale
REFRESH-INTERVAL;VALUE=DURATION:PT1H
X-Robots-Tag:noindex
X-PUBLISHED-TTL:PT1H
BEGIN:VTIMEZONE
TZID:Europe/Paris
BEGIN:DAYLIGHT
TZOFFSETFROM:+0100
TZOFFSETTO:+0200
TZNAME:CEST
DTSTART:20200329T010000
END:DAYLIGHT
BEGIN:STANDARD
TZOFFSETFROM:+0200
TZOFFSETTO:+0100
TZNAME:CET
DTSTART:20201025T010000
END:STANDARD
BEGIN:DAYLIGHT
TZOFFSETFROM:+0100
TZOFFSETTO:+0200
TZNAME:CEST
DTSTART:20210328T010000
END:DAYLIGHT
BEGIN:STANDARD
TZOFFSETFROM:+0200
TZOFFSETTO:+0100
TZNAME:CET
DTSTART:20211031T010000
END:STANDARD
BEGIN:DAYLIGHT
TZOFFSETFROM:+0100
TZOFFSETTO:+0200
TZNAME:CEST
DTSTART:20220327T010000
END:DAYLIGHT
BEGIN:STANDARD
TZOFFSETFROM:+0200
TZOFFSETTO:+0100
TZNAME:CET
DTSTART:20221030T010000
END:STANDARD
END:VTIMEZONE
BEGIN:VEVENT
DTSTART;TZID=Europe/Paris:20210703T093000
DTEND;TZID=Europe/Paris:20210704T173000
DTSTAMP:20260423T113224
CREATED:20180320T150126Z
LAST-MODIFIED:20210422T191644Z
UID:30100-1625304600-1625419800@www.equi-claire.be
SUMMARY:Stage Equifeel - enfants\, ados\, adultes
DESCRIPTION:Nous vous proposons un stage d’Equifeel à l’écurie du moulin de Donstiennes.\n\nNous prévoyons de faire plusieurs groupes selon les niveaux (avec rappel théorique pour ceux qui découvrent la discipline). \nDes épreuves d’Equifeel\, seront installées dans la piste\, le rond de longe et le paddock. \nLe travail sera individualisé pour chaque couple piéton-cheval avec des conseils personnalisés. \nLe stage sera encadré par Claire Stevenaert et Alexandre Declercq. \nIl est souhaitable de maîtriser les bases du travail au sol pour participer à ce stage.Tarifs :\nLe stage : 150 euros TVAC pour le week-end\nHébergement en box + paddock : 40 euros/ week-end\nHébergement en paddock: 20 euros/ week-end\nLocation d’un cheval: 30 euros/ week-end \nIl est possible que le stage soit reporté à une date ultérieure en fonction des mesures gouvernementales en vigueur. \ninfos et inscriptions: infos@equi-claire.be
URL:https://www.equi-claire.be/event/stage-equifeel-2021-1/
LOCATION:Donstiennes\, rue couture 144\, Donstiennes\, 6536\, Belgique
CATEGORIES:Equifeel,Stage tous publics,Stages
ATTACH;FMTTYPE=image/jpeg:https://www.equi-claire.be/wp-content/uploads/2018/03/equifeel1.jpg
ORGANIZER;CN="Equi Claire":MAILTO:contact@equi-claire.be
END:VEVENT
BEGIN:VEVENT
DTSTART;TZID=Europe/Paris:20210705T093000
DTEND;TZID=Europe/Paris:20210709T173000
DTSTAMP:20260423T113224
CREATED:20170314T121132Z
LAST-MODIFIED:20210428T090226Z
UID:30124-1625477400-1625851800@www.equi-claire.be
SUMMARY:Formation "Connaissances et pratique éthologique" (2 x 5 jours) - Semaine 1
DESCRIPTION:Cet événement concerne les personnes inscrites à la Formation « Connaissances et pratique éthologique » – Cursus I en 2x 5 jours \nLa formation « Connaissances et pratique éthologique » est proposée par Claire Stevenaert et Alexandre Declercq. Elle est ouverte aux enseignants et cavaliers désireux d’appréhender le cheval et son travail via une pédagogie et un enseignement différent. \nAu cours de cette formation\, les programmes des Savoirs d’Equitation Ethologique sont abordés et mis en pratique. Sur demande\, Claire peut faire passer les examens des Savoirs en collaboration avec l’Académie d’Enseignement Comportemental de Firfol (Normandie). \nLe programme de la formation « Connaissances et pratique éthologique » est à la base prévu en 5 stages de 2 jours. Ici\, il est adapté en 2 stages de 5 jours pour les personnes désireuses d’une formule plus condensée : \nStage 1 : Initiation au Sol. (NB : Correspond au Savoir 1 et au début du Savoir 2) : \nComprendre les différents processus d’apprentissages afin de pouvoir les mettre en pratique dans l’éducation du cheval et l’équitation de tous les jours.\nDécouvrir le cheval\, son monde sensoriel et ses moyens de communication.\nSe familiariser avec la gestuelle de l’équitation comportementale et manipuler les différents outils avec un timing cohérent.\nApprendre le travail de base au sol sur les thèmes du respect et de la confiance (marche en main\, contrôle de chaque partie du corps du cheval\, travail sur le cercle\, désensibilisations diverses)\nPouvoir capter l’attention du cheval à tout moment et apprendre à le gérer dans différentes situations qui pourraient être problématiques \nStage 2 : Evolution au Sol (NB : Correspond à la fin du Savoir 2 et au début du Savoir 4) :\n« Connaitre le mode de vie du cheval au naturel et les variations de tempérament d’un individu à l’autre ». \nPerfectionner sa communication au sol (toujours sur les thèmes du respect et de la confiance) dans le respect des principes d’apprentissage.\nAdapter sa manière d’aborder le travail selon les tempéraments des chevaux (notions de horsenalities)\nMaîtriser les différents types de conduite des chevaux et comprendre leur intérêt :\nles différentes marches en main\,\nla conduite à distance\,\nInitiation au travail en liberté \nStage 3 : Initiation Monté (NB : Correspond au Savoir Ethologique 3) : \nConnaitre le rythme de vie du cheval au naturel\, les différents modes de vie du cheval domestiqué et les stéréotypies.\nTransposer l’éducation du cheval au sol au travail monté dans la décontraction (dans le respect des principes d’apprentissage) :\nContrôle du cheval dans l’allure et direction\nDécouvrir les notions d’équitation centrée. \nStage 4 : Evolution monté (NB : correspond à la fin du Savoirs 3 et au Savoir 4). : \nPerfectionnement théorique à définir en fonction de ce qui aura été vu dans les premiers stages.\nEvolution du travail monté :\nMise en main\nIncurvation\nPréparation au travail en cordelette\nEquitation centrée\nInitiation au travail aux longues rênes en licol \nStage 5 : Liberté au sol et perfectionnement à la longe (NB : Correspond au Savoir 4). \nPerfectionnement théorique à définir en fonction de ce qui aura été vu dans les premiers stages.\nEvolution du travail en liberté\nPerfectionnement au travail à distance\nPerfectionnement au travail en longues rênes \nTARIF DE BASE \nLa formation « Connaissances et pratique éthologique » revient à 1497 euros TVAC. \nCelle-ci comprend :\n– la participation aux cours de pratiques éthologiques avec votre cheval ou un cheval de location\n– des cours de théorie avec supports de cours\n– des séances de gestuelle\n– des TP d’observation \nSuppléments : \nL’hébergement de votre cheval\, la location d’un cheval et les éventuels repas seront à compter en supplément. \nLes dates : \n– du 05 au 09 juillet 2021\net\n– du 02 au 06 août 2021 \nMAXIMUM 6 PERSONNES \nInfos et Inscriptions : Claire Stevenaert 0473 622 422 – infos@equi-claire.be
URL:https://www.equi-claire.be/event/formation-modulaire-connaissances-et-pratique-ethologique-2021-2-5-1/
LOCATION:Donstiennes\, rue couture 144\, Donstiennes\, 6536\, Belgique
CATEGORIES:Formation
ATTACH;FMTTYPE=image/jpeg:https://www.equi-claire.be/wp-content/uploads/2016/09/74_JPG-scaled.jpg
ORGANIZER;CN="Equi Claire":MAILTO:contact@equi-claire.be
END:VEVENT
BEGIN:VEVENT
DTSTART;TZID=Europe/Paris:20210712T090000
DTEND;TZID=Europe/Paris:20210716T180000
DTSTAMP:20260423T113224
CREATED:20170314T122330Z
LAST-MODIFIED:20210422T193909Z
UID:30103-1626080400-1626458400@www.equi-claire.be
SUMMARY:Stage "Camp Jeunes" : travail au sol\, monté et en liberté
DESCRIPTION:Stage « Camp jeunes » d’équitation comportementale dite éthologique : \n« Travail au sol\, monté et en liberté ». \nCe stage a pour but de vous apprendre à obtenir la confiance et le respect mutuel avec votre cheval et d’évoluer avec lui en toute sécurité sur du travail à pied et monté en licol. Les journées de stage alterneront du travail avec les chevaux au sol\, monté ou en liberté en piste\, avec des séances de gestuelle\, théorie\, soins aux chevaux et ateliers d’écurie. Un cheval sera attribué par stagiaire durant le séjour. Possibilité de venir avec son propre cheval ou poney (pas d’étalon). \nProgramme type d’une journée de stage : \n– (09h00 Soins aux chevaux)\n– 09h30 Théorie pratique\n– 10h00 Gestuelle\n– 10h30 Pansage et préparation des chevaux\n– 11h00 Travail avec les chevaux\n– 12h30 Ateliers d’écurie\n– 13h00 Pause repas\n– 14h00 Gestuelle\n– 14h30 Travail avec les chevaux\n– 16h30 Gouter et théorie éthologique\n– 17h00 Ateliers d’écurie et soins aux chevaux\n– 18h00 Fin de la journée de stage en externat \nCe stage est proposé en licol\, cordelette ou au mors suivant les activités et les niveaux respectifs des cavaliers et chevaux. Le programme du stage sera adapté au niveau de chacun ainsi que selon les envies des stagiaires. \nLe stage commence le lundi matin. \nIl est vivement conseillé d’être à l’aise aux 3 allures ; le stage n’a pas pour but de vous apprendre à monter à cheval mais de renforcer votre relation avec votre ami équin. \nA partir de 10 ans et jusque 25 ans. Nous proposerons plusieurs groupes (enfants – ados) \nEncadrement : \nClaire Stevenaert\, formée par l’Académie d’Enseignement Comportementale de Firfol et brevetée de la Fédération Française d’Equitation (BFEE 1 & 2).\nAinsi que des stagiaires en formation. \n\nTarifs: \n\n– 350 € TVAC en externat (comprends les journées de stage)\n10 % de réduction pour les inscriptions effectuées avant le 1er mai ce qui revient à 315€\nÉcurie et internat:\n– Repas et internat : 125 € du lundi midi au vendredi midi (prévoir un drap\, sac de couchage ou couette\, et oreiller)\nIl est possible d’arriver le dimanche soir avec un supplément de 15 €\n– Repas du midi pour les externes ( 5 jour): 30 €\n– Logement d’un cheval + foin : 60 euros\n(prévoir le grain si nécessaire).\nLe box devra être curé par le cavalier à la fin du stage ou paiement de 10 €\n– Location du cheval : 75 €\n– Un supplément de 10 euros est demandé pour une assurance si l’ados n’est pas en ordre de licence. Possibilité d’assurance à l’année pour 25 euros.\nInfos et réservations : www.equi-claire.be – Claire Stevenaert – 0473/622.422 – infos@equi-claire.be \nIl est possible que le stage soit reporté à une date ultérieure en fonction des mesures gouvernementales en vigueur.
URL:https://www.equi-claire.be/event/stage-jeunes-2021-1/
LOCATION:Ecuries privées\, Forge Philippe\, 6596
CATEGORIES:Stage tous publics,Stage-jeune,Stages,Travail au sol,Travail au sol jeune,Travail monté
ATTACH;FMTTYPE=image/jpeg:https://www.equi-claire.be/wp-content/uploads/2017/03/jeunes.jpg
ORGANIZER;CN="Equi Claire":MAILTO:contact@equi-claire.be
END:VEVENT
BEGIN:VEVENT
DTSTART;TZID=Europe/Paris:20210725T090000
DTEND;TZID=Europe/Paris:20210729T173000
DTSTAMP:20260423T113224
CREATED:20170209T174329Z
LAST-MODIFIED:20210616T135233Z
UID:29440-1627203600-1627579800@www.equi-claire.be
SUMMARY:Stage "étho-rando" ados-adultes
DESCRIPTION:Nous vous proposons un stage d’équitation éthologique et randonnée pour les ados et adultes. \nCe stage sera partagé entre équitation comportementale et randonnée. \n\n\nCe stage a pour but de vous apprendre à obtenir la confiance et le respect mutuels avec votre cheval et d’évoluer avec lui en toute sécurité lors du travail à pied et monté en extérieur. \nVous serez initié à l’équitation comportementale au cours de différents ateliers selon votre niveau. \nAu programme : travail avec les chevaux au sol ou monté\, balades et randonnées\, ainsi que des séances de gestuelle\, théorie (éthologie\, notions de cartographie\, ….) et soins aux chevaux. \nVotre cheval sera logé en paddock/prairie (pas d’étalon). \nPossibilité de louer un cheval ou poney (nombre limité). \nLe programme du stage sera adapté au niveau de chacun ainsi que selon les envies des stagiaires. \nLe stage a lieu dans la région de Chimay et du Val Joly. \nIl est demandé d’être à l’aise aux 3 allures en extérieur et d’avoir au minimum 12 ans. \n  \n\n\nEncadrement : \nClaire Stevenaert\, formée par l’Académie d’Enseignement Comportementale de Firfol et brevetée de la Fédération Française d’Equitation (BFEE 1 & 2). \nElise Urbain\, randonneuse formée à l’équitation éthologique et la communication animale. \nTarifs : \n– Le stage revient à 450 euros TVAC. Cela comprend l’encadrement du stage et de la randonnée. \nLes suppléments : \n– 125 euros pour l’internat (les repas du dimanche au jeudi midi). Le logement se fera sous tente et/ou en relais équestre (prévoir tente et sac de couchage)\, il y aura accès à une salle de bain.Si vous souhaitez plus de confort\, nous pouvons vous conseiller des gîtes dans la région. \n– location cheval (comprenant le logement de celui-ci lors de la randonnée) : entre 75 euros et 100 euros en fonction du type et des possibilités d’hébergement des relais équestres (foin ou préfané + eau). \n– logement de votre cheval : entre 50 euros et 100 euros en fonction du type et des possibilités d’hébergement des relais équestres (foin ou préfané + eau).\n– Un supplément de 10 euros est demandé pour une assurance si l’ado (< 18 ans) n’est pas en ordre de licence. Possibilité d’assurance à l’année pour 25 euros. \nFiche d’inscription disponible sur demande. \nInfos et réservations : \nwww.equi-claire.be – Claire Stevenaert – 0473/622.422 – infos@equi-claire.be \nYou-N-Equi – Elise Urbain –  0472/419.504 –  urbain.elise@gmail.com
URL:https://www.equi-claire.be/event/camp-etho-rando-3/
LOCATION:You-N-Equi\, Rue de Bailièvre 2a\, Robechies\, Wallonia\, 6460\, Belgique
CATEGORIES:Etho-rando,Randonnée-jeune,Stage tous publics,Stage-jeune,Stages,Val Joly
ATTACH;FMTTYPE=image/jpeg:https://www.equi-claire.be/wp-content/uploads/2017/02/20200730-equiclaire-val-joly_1JT2975.jpg
ORGANIZER;CN="Equi Claire":MAILTO:contact@equi-claire.be
END:VEVENT
END:VCALENDAR