BEGIN:VCALENDAR
VERSION:2.0
PRODID:-//Equitation comportementale - ECPv6.15.17.1//NONSGML v1.0//EN
CALSCALE:GREGORIAN
METHOD:PUBLISH
X-WR-CALNAME:Equitation comportementale
X-ORIGINAL-URL:https://www.equi-claire.be
X-WR-CALDESC:Évènements pour Equitation comportementale
REFRESH-INTERVAL;VALUE=DURATION:PT1H
X-Robots-Tag:noindex
X-PUBLISHED-TTL:PT1H
BEGIN:VTIMEZONE
TZID:Europe/Brussels
BEGIN:DAYLIGHT
TZOFFSETFROM:+0100
TZOFFSETTO:+0200
TZNAME:CEST
DTSTART:20200329T010000
END:DAYLIGHT
BEGIN:STANDARD
TZOFFSETFROM:+0200
TZOFFSETTO:+0100
TZNAME:CET
DTSTART:20201025T010000
END:STANDARD
BEGIN:DAYLIGHT
TZOFFSETFROM:+0100
TZOFFSETTO:+0200
TZNAME:CEST
DTSTART:20210328T010000
END:DAYLIGHT
BEGIN:STANDARD
TZOFFSETFROM:+0200
TZOFFSETTO:+0100
TZNAME:CET
DTSTART:20211031T010000
END:STANDARD
BEGIN:DAYLIGHT
TZOFFSETFROM:+0100
TZOFFSETTO:+0200
TZNAME:CEST
DTSTART:20220327T010000
END:DAYLIGHT
BEGIN:STANDARD
TZOFFSETFROM:+0200
TZOFFSETTO:+0100
TZNAME:CET
DTSTART:20221030T010000
END:STANDARD
END:VTIMEZONE
BEGIN:VEVENT
DTSTART;TZID=Europe/Brussels:20211218T093000
DTEND;TZID=Europe/Brussels:20211219T173000
DTSTAMP:20260423T021503
CREATED:20210709T143832Z
LAST-MODIFIED:20211022T155007Z
UID:30456-1639819800-1639935000@www.equi-claire.be
SUMMARY:Formation CPE cursus II - Week-end 03 Promo 03
DESCRIPTION:Cette formation est uniquement accessible aux personnes ayant suivi le cursus I. Ce deuxième volet s’adresse aux élèves du 1er cursus qui souhaitent se perfectionner\, approfondir davantage les bases acquises lors du CPE cursus 01. \nSi vous souhaitez recevoir plus d’informations au sujet de cette formation et des étapes pour y accéder\, n’hésitez pas à prendre contact avec nous.
URL:https://www.equi-claire.be/event/formation-en-connaissances-et-pratique-de-ethologie-perfectionnement-3/
CATEGORIES:Formation
ATTACH;FMTTYPE=image/jpeg:https://www.equi-claire.be/wp-content/uploads/2018/02/DSC02888-scaled.jpg
END:VEVENT
END:VCALENDAR