BEGIN:VCALENDAR
VERSION:2.0
PRODID:-//Equitation comportementale - ECPv6.15.17.1//NONSGML v1.0//EN
CALSCALE:GREGORIAN
METHOD:PUBLISH
X-ORIGINAL-URL:https://www.equi-claire.be
X-WR-CALDESC:Évènements pour Equitation comportementale
REFRESH-INTERVAL;VALUE=DURATION:PT1H
X-Robots-Tag:noindex
X-PUBLISHED-TTL:PT1H
BEGIN:VTIMEZONE
TZID:Europe/Brussels
BEGIN:DAYLIGHT
TZOFFSETFROM:+0100
TZOFFSETTO:+0200
TZNAME:CEST
DTSTART:20210328T010000
END:DAYLIGHT
BEGIN:STANDARD
TZOFFSETFROM:+0200
TZOFFSETTO:+0100
TZNAME:CET
DTSTART:20211031T010000
END:STANDARD
BEGIN:DAYLIGHT
TZOFFSETFROM:+0100
TZOFFSETTO:+0200
TZNAME:CEST
DTSTART:20220327T010000
END:DAYLIGHT
BEGIN:STANDARD
TZOFFSETFROM:+0200
TZOFFSETTO:+0100
TZNAME:CET
DTSTART:20221030T010000
END:STANDARD
BEGIN:DAYLIGHT
TZOFFSETFROM:+0100
TZOFFSETTO:+0200
TZNAME:CEST
DTSTART:20230326T010000
END:DAYLIGHT
BEGIN:STANDARD
TZOFFSETFROM:+0200
TZOFFSETTO:+0100
TZNAME:CET
DTSTART:20231029T010000
END:STANDARD
END:VTIMEZONE
BEGIN:VEVENT
DTSTART;TZID=Europe/Brussels:20220108T093000
DTEND;TZID=Europe/Brussels:20220109T173000
DTSTAMP:20260423T003414
CREATED:20211213T134406Z
LAST-MODIFIED:20211213T135618Z
UID:31247-1641634200-1641749400@www.equi-claire.be
SUMMARY:Stage à la carte
DESCRIPTION:Claire Stevenaert et Alexandre Declercq vous proposent un week-end pour vous perfectionner dans la relation\, l’éducation et les performances avec votre cheval. \nVenez pour 1 ou 2 jours et prenez le nombre de cours particuliers que vous désirez avec votre cheval et/ou un des nôtres. \nProfitez d’en apprendre plus en regardant les cours des autres participants et en passant des moments à échanger sur les différentes problématiques que vous pouvez rencontrer. \nNous partons sur une base de cours particuliers mais si plusieurs personnes sont à un moment intéressées par un même sujet\, il sera possible d’organiser un cours collectif. \nTarifs : \n\nCours particulier = 50€\nLocation cheval = 5€\nPaddock : 10 euros / 24h\nBox la nuit + paddock le jour : 20 euros / 24h\n\nContactez-nous et nous verrons ensemble comment adapter la séance à vos besoins.\n\nInfos et inscriptions: infos@equi-claire.be
URL:https://www.equi-claire.be/event/stage-a-la-carte-2/
LOCATION:Donstiennes\, rue couture 144\, Donstiennes\, 6536\, Belgique
CATEGORIES:Calendrier,Stages
ATTACH;FMTTYPE=image/jpeg:https://www.equi-claire.be/wp-content/uploads/2020/07/alex-claire.jpg
END:VEVENT
BEGIN:VEVENT
DTSTART;TZID=Europe/Brussels:20220115T093000
DTEND;TZID=Europe/Brussels:20220116T173000
DTSTAMP:20260423T003414
CREATED:20210709T144025Z
LAST-MODIFIED:20211022T154919Z
UID:30458-1642239000-1642354200@www.equi-claire.be
SUMMARY:Formation CPE cursus II - Week-end 04 Promo 03
DESCRIPTION:Cette formation est uniquement accessible aux personnes ayant suivi le cursus I. Ce deuxième volet s’adresse aux élèves du 1er cursus qui souhaitent se perfectionner\, approfondir davantage les bases acquises lors du CPE cursus 01. \nSi vous souhaitez recevoir plus d’informations au sujet de cette formation et des étapes pour y accéder\, n’hésitez pas à prendre contact avec nous.
URL:https://www.equi-claire.be/event/formation-en-connaissances-et-pratique-de-ethologie-perfectionnement-4/
CATEGORIES:Formation
ATTACH;FMTTYPE=image/jpeg:https://www.equi-claire.be/wp-content/uploads/2018/02/DSC02888-scaled.jpg
END:VEVENT
BEGIN:VEVENT
DTSTART;TZID=Europe/Brussels:20220129T093000
DTEND;TZID=Europe/Brussels:20220130T173000
DTSTAMP:20260423T003414
CREATED:20170314T121132Z
LAST-MODIFIED:20211022T095109Z
UID:30155-1643448600-1643563800@www.equi-claire.be
SUMMARY:Formation "Connaissances et pratique éthologique" - Cursus I - Stage 5/5 Promo 09
DESCRIPTION:La formation « Connaissances et pratique éthologique » est proposée par Claire Stevenaert et Alexandre Declercq. Elle est ouverte aux enseignants et cavaliers désireux d’appréhender le cheval et son travail via une pédagogie et un enseignement différent. \nAu cours de cette formation\, les programmes des Savoirs d’Equitation Ethologique sont abordés et mis en pratique. Sur demande\, Claire peut faire passer les examens des Savoirs en collaboration avec l’Académie d’Enseignement Comportemental de Firfol (Normandie). \nLe programme de la formation « Connaissances et pratique éthologique » est à la base prévu en 5 stages de 2 jours. Ici\, il est adapté en 2 stages de 5 jours pour les personnes désireuses d’une formule plus condensée : \nStage 1 : Initiation au Sol. (NB : Correspond au Savoir 1 et au début du Savoir 2) : \nComprendre les différents processus d’apprentissages afin de pouvoir les mettre en pratique dans l’éducation du cheval et l’équitation de tous les jours.\nDécouvrir le cheval\, son monde sensoriel et ses moyens de communication.\nSe familiariser avec la gestuelle de l’équitation comportementale et manipuler les différents outils avec un timing cohérent.\nApprendre le travail de base au sol sur les thèmes du respect et de la confiance (marche en main\, contrôle de chaque partie du corps du cheval\, travail sur le cercle\, désensibilisations diverses)\nPouvoir capter l’attention du cheval à tout moment et apprendre à le gérer dans différentes situations qui pourraient être problématiques \nStage 2 : Evolution au Sol (NB : Correspond à la fin du Savoir 2 et au début du Savoir 4) :\n« Connaitre le mode de vie du cheval au naturel et les variations de tempérament d’un individu à l’autre ». \nPerfectionner sa communication au sol (toujours sur les thèmes du respect et de la confiance) dans le respect des principes d’apprentissage.\nAdapter sa manière d’aborder le travail selon les tempéraments des chevaux (notions de horsenalities)\nMaîtriser les différents types de conduite des chevaux et comprendre leur intérêt :\nles différentes marches en main\,\nla conduite à distance\,\nInitiation au travail en liberté \nStage 3 : Initiation Monté (NB : Correspond au Savoir Ethologique 3) : \nConnaitre le rythme de vie du cheval au naturel\, les différents modes de vie du cheval domestiqué et les stéréotypies.\nTransposer l’éducation du cheval au sol au travail monté dans la décontraction (dans le respect des principes d’apprentissage) :\nContrôle du cheval dans l’allure et direction\nDécouvrir les notions d’équitation centrée. \nStage 4 : Evolution monté (NB : correspond à la fin du Savoirs 3 et au Savoir 4). : \nPerfectionnement théorique à définir en fonction de ce qui aura été vu dans les premiers stages.\nEvolution du travail monté :\nMise en main\nIncurvation\nPréparation au travail en cordelette\nEquitation centrée\nInitiation au travail aux longues rênes en licol \nStage 5 : Liberté au sol et perfectionnement à la longe (NB : Correspond au Savoir 4). \nPerfectionnement théorique à définir en fonction de ce qui aura été vu dans les premiers stages.\nEvolution du travail en liberté\nPerfectionnement au travail à distance\nPerfectionnement au travail en longues rênes \nTARIF DE BASE \nLa formation « Connaissances et pratique éthologique » revient à 1497 euros TVAC. \nCelle-ci comprend :\n– la participation aux cours de pratiques éthologiques avec votre cheval ou un cheval de location\n– des cours de théorie avec supports de cours\n– des séances de gestuelle\n– des TP d’observation \nSuppléments : \nL’hébergement de votre cheval\, la location d’un cheval et les éventuels repas seront à compter en supplément. \nLes dates : \n– 28 et 29 août 2021\n– 25 et 26 septembre 2021\n– 23 et 24 octobre 2021\n– 27 et 28 novembre 2021\n– 29 et 30 janvier 2022 \nMAXIMUM 6 PERSONNES \nInfos et Inscriptions : Claire Stevenaert 0473 622 422 – infos@equi-claire.be
URL:https://www.equi-claire.be/event/formation-modulaire-connaissances-et-pratique-ethologique-2021-a4-2/
LOCATION:Donstiennes\, rue couture 144\, Donstiennes\, 6536\, Belgique
CATEGORIES:Formation
ATTACH;FMTTYPE=image/jpeg:https://www.equi-claire.be/wp-content/uploads/2016/09/74_JPG-scaled.jpg
ORGANIZER;CN="Equi Claire":MAILTO:contact@equi-claire.be
END:VEVENT
END:VCALENDAR