BEGIN:VCALENDAR
VERSION:2.0
PRODID:-//Equitation comportementale - ECPv6.15.17.1//NONSGML v1.0//EN
CALSCALE:GREGORIAN
METHOD:PUBLISH
X-WR-CALNAME:Equitation comportementale
X-ORIGINAL-URL:https://www.equi-claire.be
X-WR-CALDESC:Évènements pour Equitation comportementale
REFRESH-INTERVAL;VALUE=DURATION:PT1H
X-Robots-Tag:noindex
X-PUBLISHED-TTL:PT1H
BEGIN:VTIMEZONE
TZID:Europe/Brussels
BEGIN:DAYLIGHT
TZOFFSETFROM:+0100
TZOFFSETTO:+0200
TZNAME:CEST
DTSTART:20210328T010000
END:DAYLIGHT
BEGIN:STANDARD
TZOFFSETFROM:+0200
TZOFFSETTO:+0100
TZNAME:CET
DTSTART:20211031T010000
END:STANDARD
BEGIN:DAYLIGHT
TZOFFSETFROM:+0100
TZOFFSETTO:+0200
TZNAME:CEST
DTSTART:20220327T010000
END:DAYLIGHT
BEGIN:STANDARD
TZOFFSETFROM:+0200
TZOFFSETTO:+0100
TZNAME:CET
DTSTART:20221030T010000
END:STANDARD
BEGIN:DAYLIGHT
TZOFFSETFROM:+0100
TZOFFSETTO:+0200
TZNAME:CEST
DTSTART:20230326T010000
END:DAYLIGHT
BEGIN:STANDARD
TZOFFSETFROM:+0200
TZOFFSETTO:+0100
TZNAME:CET
DTSTART:20231029T010000
END:STANDARD
END:VTIMEZONE
BEGIN:VEVENT
DTSTART;TZID=Europe/Brussels:20220618T093000
DTEND;TZID=Europe/Brussels:20220619T173000
DTSTAMP:20260422T161024
CREATED:20211213T110215Z
LAST-MODIFIED:20211213T110738Z
UID:31238-1655544600-1655659800@www.equi-claire.be
SUMMARY:Formation CPE cursus I - 4/5
DESCRIPTION:Promo 10 – Week-end 4/5. \nLa formation « Connaissances et pratique éthologiques » est proposée par Claire Stevenaert et Alexandre Declercq. Elle est ouverte aux enseignants et cavaliers désireux d’appréhender le cheval et son travail via une pédagogie et un enseignement différent. \nAu cours de cette formation\, les programmes des Savoirs d’Equitation Ethologique sont abordés et mis en pratique. Sur demande\, Claire peut faire passer les examens des Savoirs en collaboration avec l’Académie d’Enseignement Comportemental de Firfol (Normandie). \nLe programme de la formation « Connaissances et pratique éthologiques » est organisé en 5 stages de 2 jours. \nContenu de ce quatrième week-end : \nStage 4 : Evolution monté (NB : correspond à la fin du Savoirs 3 et au Savoir 4). :\n\nPerfectionnement théorique à définir en fonction de ce qui aura été vu dans les premiers stages.\nEvolution du travail monté : mise en main\, incurvation\, préparation au travail en cordelette\, équitation centrée.\nInitiation au travail aux longues rênes en licol.\n\nCe contenu vous intéresse?\nVous pouvez retrouver l’ensemble de ce programme de formation sur ce page : https://www.equi-claire.be/formations/formations-equitation-ethologique/. \nContactez nous pour demander à être tenu informé de nos prochaines dates de formations. \nInfos et Inscriptions : Claire Stevenaert – 0473 622 422 – infos@equi-claire.be
URL:https://www.equi-claire.be/event/formation-cpe-cursus-i-4-5/
LOCATION:Donstiennes\, rue couture 144\, Donstiennes\, 6536\, Belgique
CATEGORIES:Calendrier,Formation
ATTACH;FMTTYPE=image/jpeg:https://www.equi-claire.be/wp-content/uploads/2019/12/groupe-formation.jpg
END:VEVENT
BEGIN:VEVENT
DTSTART;TZID=Europe/Brussels:20220618T093000
DTEND;TZID=Europe/Brussels:20220619T173000
DTSTAMP:20260422T161024
CREATED:20211221T143222Z
LAST-MODIFIED:20211221T143222Z
UID:31421-1655544600-1655659800@www.equi-claire.be
SUMMARY:Formation CPE PRO - 4/10
DESCRIPTION:PROMO 04 \nLes formations professionnelles en Équitation Éthologique proposées par Claire Stevenaert en collaboration avec Alexandre Declercq visent à former des futurs éducateurs équins ainsi que des enseignants qualifiés en équitation dite éthologique. \nAu terme de cette formation\, vous aurez acquis :\n– les connaissances et la pratique éthologique des 5 savoirs d’équitation éthologique de la fédération française d’équitation\,\n– une expérience pédagogique dans l’enseignement des 5 savoirs\,\n– des compétences de travail avec différents chevaux. \nLe programme :\n\nUne première année avec 20 journées de stages planifiées en week-end\nUne deuxième année avec 20 journées de stages planifiées en week-end\nDes journées d’entraînement pédagogique.\n\nLes dates de la première année :\n\n12 et 13 mars 2022\,\n16 et 17 avril 2022\,\n14 et 15 mai 2022\,\n18 et 19 juin 2022\,\n13 et 14 août 2022\,\n03 et 04 septembre 2022\,\n24 et 25 septembre 2022\,\n15 et 16 octobre 2022\,\n19 et 20 novembre 2022\,\n17 et 18 décembre 2022.\n\nTarif première année : \n\n2989€ / stagiaire avec cheval\n\nDécouvrez l’entièreté du programme via le lien suivant : https://www.equi-claire.be/formations/cpe-pro/ \nInformations : 0473/622.422 – infos@equi-claire.be
URL:https://www.equi-claire.be/event/formation-cpe-pro-4-10/
LOCATION:Donstiennes\, rue couture 144\, Donstiennes\, 6536\, Belgique
CATEGORIES:Formation
ATTACH;FMTTYPE=image/jpeg:https://www.equi-claire.be/wp-content/uploads/2019/08/2JT3593-claire-alexandre-e1566982491322-scaled.jpg
END:VEVENT
END:VCALENDAR