BEGIN:VCALENDAR
VERSION:2.0
PRODID:-//Equitation comportementale - ECPv6.15.17.1//NONSGML v1.0//EN
CALSCALE:GREGORIAN
METHOD:PUBLISH
X-WR-CALNAME:Equitation comportementale
X-ORIGINAL-URL:https://www.equi-claire.be
X-WR-CALDESC:Évènements pour Equitation comportementale
REFRESH-INTERVAL;VALUE=DURATION:PT1H
X-Robots-Tag:noindex
X-PUBLISHED-TTL:PT1H
BEGIN:VTIMEZONE
TZID:Europe/Brussels
BEGIN:DAYLIGHT
TZOFFSETFROM:+0100
TZOFFSETTO:+0200
TZNAME:CEST
DTSTART:20210328T010000
END:DAYLIGHT
BEGIN:STANDARD
TZOFFSETFROM:+0200
TZOFFSETTO:+0100
TZNAME:CET
DTSTART:20211031T010000
END:STANDARD
BEGIN:DAYLIGHT
TZOFFSETFROM:+0100
TZOFFSETTO:+0200
TZNAME:CEST
DTSTART:20220327T010000
END:DAYLIGHT
BEGIN:STANDARD
TZOFFSETFROM:+0200
TZOFFSETTO:+0100
TZNAME:CET
DTSTART:20221030T010000
END:STANDARD
BEGIN:DAYLIGHT
TZOFFSETFROM:+0100
TZOFFSETTO:+0200
TZNAME:CEST
DTSTART:20230326T010000
END:DAYLIGHT
BEGIN:STANDARD
TZOFFSETFROM:+0200
TZOFFSETTO:+0100
TZNAME:CET
DTSTART:20231029T010000
END:STANDARD
END:VTIMEZONE
BEGIN:VEVENT
DTSTART;TZID=Europe/Brussels:20221001T093000
DTEND;TZID=Europe/Brussels:20221002T173000
DTSTAMP:20260420T084444
CREATED:20220909T095516Z
LAST-MODIFIED:20220927T154618Z
UID:34376-1664616600-1664731800@www.equi-claire.be
SUMMARY:Stage d'initiation au travail au sol
DESCRIPTION:Durant deux jours\, vous allez apprendre les bases de l’équitation éthologique : obtenir la confiance et le respect mutuels avec votre cheval. \nVous allez alterner des séances de travail avec les chevaux et des séances de gestuelle afin de vous familiariser avec les différents outils. Vous découvrirez essentiellement comment communiquer avec votre partenaire équin lors de séances de travail au sol. Une petite séance de théorie vous permettra aussi d’approfondir vos connaissances du monde du cheval. Ce stage est ouvert à toute personne désirant approfondir sa relation avec les chevaux\, cavaliers ou non cavaliers\, quelle que soit la discipline. \nExemple d’une journée de stage : \n– Accueil et présentation du stage – Séance de gestuelle – Abord du cheval – séance d’observation – Séance de travail à pied – Pause du midi – Théorie éthologique du cheval – Séance de gestuelle – Séance de travail à pied \nMaximum 6 couples cheval / cavalier \n  \nTarifs : \n\n200 euros TVAC par stagiaire avec cheval\nAuditeur = 25€/jour\nhébergement du cheval en box : 40 €/week-end\nhébergement du cheval en paddock : 20 €/week-end\nlocation d’un cheval : 30 €/week-end\n\n  \nInfos : infos@equi-claire.be – 0473/ 62 24 22
URL:https://www.equi-claire.be/event/stage-dinitiation-au-travail-au-sol-7/
LOCATION:Donstiennes\, rue couture 144\, Donstiennes\, 6536\, Belgique
CATEGORIES:Stages,Travail au sol
ATTACH;FMTTYPE=image/jpeg:https://www.equi-claire.be/wp-content/uploads/2016/08/initiation-au-sol.jpg
END:VEVENT
BEGIN:VEVENT
DTSTART;TZID=Europe/Brussels:20221015T093000
DTEND;TZID=Europe/Brussels:20221016T173000
DTSTAMP:20260420T084444
CREATED:20211220T113922Z
LAST-MODIFIED:20220816T092146Z
UID:31345-1665826200-1665941400@www.equi-claire.be
SUMMARY:Formation CPE cursus 2 - WE02
DESCRIPTION:Promo 04 \nCette formation est accessible aux personnes ayant suivi le cursus 1\, et qui souhaitent se perfectionner et approfondir davantage les bases acquises lors du CPE cursus 01. \nPour consulter le programme de notre cursus 1\, nous vous invitons à suivre le lien suivant : https://www.equi-claire.be/formations/formations-equitation-ethologique/ \nLes dates de cette formation :\n\n24 et 25 septembre 2022\,\n15 et 16 octobre 2022\,\n19 et 20 novembre 2022\,\n17 et 18 décembre 2022\,\n14 et 15 janvier 2023.\n\nInfos : 0473/ 622 422 – infos@equi-claire.be
URL:https://www.equi-claire.be/event/formation-cpe-cursus-2/
LOCATION:Donstiennes\, rue couture 144\, Donstiennes\, 6536\, Belgique
CATEGORIES:Formation
ATTACH;FMTTYPE=image/jpeg:https://www.equi-claire.be/wp-content/uploads/2019/08/P1010082-scaled.jpg
END:VEVENT
BEGIN:VEVENT
DTSTART;TZID=Europe/Brussels:20221015T093000
DTEND;TZID=Europe/Brussels:20221016T173000
DTSTAMP:20260420T084444
CREATED:20211221T143814Z
LAST-MODIFIED:20220426T130709Z
UID:31427-1665826200-1665941400@www.equi-claire.be
SUMMARY:Formation CPE PRO - 7/10
DESCRIPTION:PROMO 04 \nLes formations professionnelles en Équitation Éthologique proposées par Claire Stevenaert en collaboration avec Alexandre Declercq visent à former des futurs éducateurs équins ainsi que des enseignants qualifiés en équitation dite éthologique. \nAu terme de cette formation\, vous aurez acquis :\n– les connaissances et la pratique éthologique des 5 savoirs d’équitation éthologique de la fédération française d’équitation\,\n– une expérience pédagogique dans l’enseignement des 5 savoirs\,\n– des compétences de travail avec différents chevaux. \nLe programme :\n\nUne première année avec 20 journées de stages planifiées en week-end\nUne deuxième année avec 20 journées de stages planifiées en week-end\nDes journées d’entraînement pédagogique.\n\nLes dates de la première année :\n\n12 et 13 mars 2022\,\n16 et 17 avril 2022\,\n14 et 15 mai 2022\,\n18 et 19 juin 2022\,\n03 et 04 septembre 2022\,\n24 et 25 septembre 2022\,\n15 et 16 octobre 2022\,\n19 et 20 novembre 2022\,\n17 et 18 décembre 2022\,\n14 et 15 janvier 2023.\n\nTarif première année : \n\n2989€ / stagiaire avec cheval\n\nDécouvrez l’entièreté du programme via le lien suivant : https://www.equi-claire.be/formations/cpe-pro/ \nInformations : 0473/622.422 – infos@equi-claire.be
URL:https://www.equi-claire.be/event/formation-cpe-pro-7-10/
LOCATION:Donstiennes\, rue couture 144\, Donstiennes\, 6536\, Belgique
CATEGORIES:Formation
ATTACH;FMTTYPE=image/jpeg:https://www.equi-claire.be/wp-content/uploads/2019/08/2JT3593-claire-alexandre-e1566982491322-scaled.jpg
END:VEVENT
BEGIN:VEVENT
DTSTART;TZID=Europe/Brussels:20221029T093000
DTEND;TZID=Europe/Brussels:20221030T173000
DTSTAMP:20260420T084444
CREATED:20220517T133831Z
LAST-MODIFIED:20220517T140455Z
UID:32658-1667035800-1667151000@www.equi-claire.be
SUMMARY:Formation CPE cursus I - 1/5
DESCRIPTION:Promotion 12 – Week-end 1/5 \nLa formation « Connaissances et pratique éthologiques » est proposée par Claire Stevenaert et Alexandre Declercq. Elle est ouverte aux enseignants et cavaliers désireux d’appréhender le cheval et son travail via une pédagogie et un enseignement différent. \nAu cours de cette formation\, les programmes des Savoirs d’Equitation Ethologique sont abordés et mis en pratique. Sur demande\, Claire peut faire passer les examens des Savoirs en collaboration avec l’Académie d’Enseignement Comportemental de Firfol (Normandie). \nLe programme de la formation « Connaissances et pratique éthologiques » est organisé en 5 stages de 2 jours. \nStage 1 : Initiation au Sol. (NB : Correspond au Savoir 1 et au début du Savoir 2) :\n\nComprendre les différents processus d’apprentissages afin de pouvoir les mettre en pratique dans l’éducation du cheval et l’équitation de tous les jours.\nDécouvrir le cheval\, son monde sensoriel et ses moyens de communication.\nSe familiariser avec la gestuelle de l’équitation comportementale et manipuler les différents outils avec un timing cohérent.\nApprendre le travail de base au sol sur les thèmes du respect et de la confiance (marche en main\, contrôle de chaque partie du corps du cheval\, travail sur le cercle\, désensibilisations diverses).\nPouvoir capter l’attention du cheval à tout moment et apprendre à le gérer dans différentes situations qui pourraient être problématiques.\n\nStage 2 : Evolution au Sol (NB : Correspond à la fin du Savoir 2 et au début du Savoir 4) :\n\nConnaître le mode de vie du cheval au naturel et les variations de tempérament d’un individu à l’autre.\nPerfectionner sa communication au sol (toujours sur les thèmes du respect et de la confiance) dans le respect des principes d’apprentissage.\nAdapter sa manière d’aborder le travail selon les tempéraments des chevaux (notions de horsenalities)\nMaîtriser les différents types de conduite des chevaux et comprendre leur intérêt : les différentes marches en main\, la conduite à distance.\nInitiation au travail en liberté\n\nStage 3 : Initiation Monté (NB : Correspond au Savoir Ethologique 3) :\n\nConnaître le rythme de vie du cheval au naturel\, les différents modes de vie du cheval domestiqué et les stéréotypies.\nTransposer l’éducation du cheval au sol au travail monté dans la décontraction (dans le respect des principes d’apprentissage).\nContrôle du cheval dans l’allure et la direction\nDécouvrir les notions d’équitation centrée.\n\nStage 4 : Evolution monté (NB : correspond à la fin du Savoirs 3 et au Savoir 4). :\n\nPerfectionnement théorique à définir en fonction de ce qui aura été vu dans les premiers stages.\nEvolution du travail monté : mise en main\, incurvation\, préparation au travail en cordelette\, équitation centrée.\nInitiation au travail aux longues rênes en licol.\n\nStage 5 : Liberté au sol et perfectionnement à la longe (NB : Correspond au Savoir 4).\n\nPerfectionnement théorique à définir en fonction de ce qui aura été vu dans les premiers stages.\nEvolution du travail en liberté.\nPerfectionnement au travail à distance et au travail aux longues rênes.\n\nTARIF DE BASE\nLa formation « Connaissances et pratique éthologique » revient à 1497 euros TVAC. \nCe tarif comprend : \n\nparticipation aux cours de pratiques éthologiques avec votre cheval ou un cheval de location\ncours de théorie avec supports de cours\nséances de gestuelle\nTP d’observation\n\nSuppléments : l’hébergement de votre cheval et la location d’un cheval seront à compter en supplément. \nLES DATES :\n\n29 et 30 octobre 2022\n26 et 27 novembre 2022\n28 et 29 janvier 2023\n25 et 26 février 2023\n25 et 26 ars 2023\n\nMAXIMUM 8 PERSONNES \nInfos et Inscriptions : Claire Stevenaert – 0473 622 422 – infos@equi-claire.be
URL:https://www.equi-claire.be/event/formation-cpe-cursus-i/
LOCATION:Chaumont-Gistoux\, Belgique
ATTACH;FMTTYPE=image/jpeg:https://www.equi-claire.be/wp-content/uploads/2019/12/groupe-formation.jpg
END:VEVENT
END:VCALENDAR