BEGIN:VCALENDAR
VERSION:2.0
PRODID:-//Equitation comportementale - ECPv6.15.17.1//NONSGML v1.0//EN
CALSCALE:GREGORIAN
METHOD:PUBLISH
X-WR-CALNAME:Equitation comportementale
X-ORIGINAL-URL:https://www.equi-claire.be
X-WR-CALDESC:Évènements pour Equitation comportementale
REFRESH-INTERVAL;VALUE=DURATION:PT1H
X-Robots-Tag:noindex
X-PUBLISHED-TTL:PT1H
BEGIN:VTIMEZONE
TZID:Europe/Brussels
BEGIN:DAYLIGHT
TZOFFSETFROM:+0100
TZOFFSETTO:+0200
TZNAME:CEST
DTSTART:20210328T010000
END:DAYLIGHT
BEGIN:STANDARD
TZOFFSETFROM:+0200
TZOFFSETTO:+0100
TZNAME:CET
DTSTART:20211031T010000
END:STANDARD
BEGIN:DAYLIGHT
TZOFFSETFROM:+0100
TZOFFSETTO:+0200
TZNAME:CEST
DTSTART:20220327T010000
END:DAYLIGHT
BEGIN:STANDARD
TZOFFSETFROM:+0200
TZOFFSETTO:+0100
TZNAME:CET
DTSTART:20221030T010000
END:STANDARD
BEGIN:DAYLIGHT
TZOFFSETFROM:+0100
TZOFFSETTO:+0200
TZNAME:CEST
DTSTART:20230326T010000
END:DAYLIGHT
BEGIN:STANDARD
TZOFFSETFROM:+0200
TZOFFSETTO:+0100
TZNAME:CET
DTSTART:20231029T010000
END:STANDARD
END:VTIMEZONE
BEGIN:VEVENT
DTSTART;TZID=Europe/Brussels:20221203T093000
DTEND;TZID=Europe/Brussels:20221204T173000
DTSTAMP:20260420T045502
CREATED:20221104T103351Z
LAST-MODIFIED:20221116T172403Z
UID:34912-1670059800-1670175000@www.equi-claire.be
SUMMARY:Stage de travail au sol - niveau 02
DESCRIPTION:Vous avez des bases de travail au sol en équitation éthologique\, et vous souhaitez vous améliorer ? \nVous souhaitez développer une relation de confiance et de respect mutuel avec votre cheval ? \nDécouvrez le stage de travail au sol niveau 2. Il vous permettra d’approfondir vos connaissances pratiques et théoriques en équitation comportementale dite éthologique. \nUn programme sur-mesure\, adapté au niveau des participants. \nExemple de programme :\n– Mieux communiquer afin d’améliorer votre relation avec votre cheval\n– Affiner votre gestuelle de l’équitation comportementale\n– Perfectionner et varier votre travail à la longe\n– Contrôler votre cheval dans des situations nouvelles\n– Désensibilisations diverses \nEt en plus\, pour chaque participant\, un accès à la partie sur les bases du travail au sol de la formation en ligne est offert ! Afin de réviser les bases sereinement avant le stage. \nDates et lieu : 3 et 4 Décembre – l’Écurie du Moulin Donstiennes \nInscriptions sur : https://www.equi-claire.be/…/stage-de-travail-au-sol…/ \nTarif = 250€/ participant avec cheval \nInformations et inscriptions : Claire Stevenaert 0473 622 422 – infos@equi-claire.be
URL:https://www.equi-claire.be/event/stage-de-travail-au-sol-niveau-02-2/
LOCATION:Donstiennes\, rue couture 144\, Donstiennes\, 6536\, Belgique
CATEGORIES:Stage tous publics,Stages,Travail au sol
ATTACH;FMTTYPE=image/jpeg:https://www.equi-claire.be/wp-content/uploads/2018/03/sol.jpg
END:VEVENT
BEGIN:VEVENT
DTSTART;TZID=Europe/Brussels:20221217T093000
DTEND;TZID=Europe/Brussels:20221218T173000
DTSTAMP:20260420T045502
CREATED:20211220T114653Z
LAST-MODIFIED:20220426T125937Z
UID:31350-1671269400-1671384600@www.equi-claire.be
SUMMARY:Formation CPE cursus 2 - WE04
DESCRIPTION:Promo 04 \nCette formation est accessible aux personnes ayant suivi le cursus 1\, et qui souhaitent se perfectionner et approfondir davantage les bases acquises lors du CPE cursus 01. \nPour consulter le programme de notre cursus 1\, nous vous invitons à suivre le lien suivant : https://www.equi-claire.be/formations/formations-equitation-ethologique/ \nLes dates de cette formation :\n\n24 et 25 septembre 2022\,\n15 et 16 octobre 2022\,\n12 et 13 novembre 2022\,\n17 et 18 décembre 2022\,\n14 et 15 janvier 2023.\n\nInfos : 0473/ 622 422 – infos@equi-claire.be
URL:https://www.equi-claire.be/event/formation-cpe-cursus-2-we04/
LOCATION:Donstiennes\, rue couture 144\, Donstiennes\, 6536\, Belgique
CATEGORIES:Formation
ATTACH;FMTTYPE=image/jpeg:https://www.equi-claire.be/wp-content/uploads/2019/08/P1010082-scaled.jpg
END:VEVENT
BEGIN:VEVENT
DTSTART;TZID=Europe/Brussels:20221217T093000
DTEND;TZID=Europe/Brussels:20221218T173000
DTSTAMP:20260420T045502
CREATED:20211221T144155Z
LAST-MODIFIED:20220426T125708Z
UID:31431-1671269400-1671384600@www.equi-claire.be
SUMMARY:Formation CPE PRO - 9/10
DESCRIPTION:PROMO 04 \nLes formations professionnelles en Équitation Éthologique proposées par Claire Stevenaert en collaboration avec Alexandre Declercq visent à former des futurs éducateurs équins ainsi que des enseignants qualifiés en équitation dite éthologique. \nAu terme de cette formation\, vous aurez acquis :\n– les connaissances et la pratique éthologique des 5 savoirs d’équitation éthologique de la fédération française d’équitation\,\n– une expérience pédagogique dans l’enseignement des 5 savoirs\,\n– des compétences de travail avec différents chevaux. \nLe programme :\n\nUne première année avec 20 journées de stages planifiées en week-end\nUne deuxième année avec 20 journées de stages planifiées en week-end\nDes journées d’entraînement pédagogique.\n\nLes dates de la première année :\n\n12 et 13 mars 2022\,\n16 et 17 avril 2022\,\n14 et 15 mai 2022\,\n18 et 19 juin 2022\,\n03 et 04 septembre 2022\,\n24 et 25 septembre 2022\,\n15 et 16 octobre 2022\,\n19 et 20 novembre 2022\,\n17 et 18 décembre 2022\,\n14 et 15 janvier 2023.\n\nTarif première année : \n\n2989€ / stagiaire avec cheval\n\nDécouvrez l’entièreté du programme via le lien suivant : https://www.equi-claire.be/formations/cpe-pro/ \nInformations : 0473/622.422 – infos@equi-claire.be
URL:https://www.equi-claire.be/event/formation-cpe-pro-9-10/
LOCATION:Donstiennes\, rue couture 144\, Donstiennes\, 6536\, Belgique
CATEGORIES:Formation
ATTACH;FMTTYPE=image/jpeg:https://www.equi-claire.be/wp-content/uploads/2019/08/2JT3593-claire-alexandre-e1566982491322-scaled.jpg
END:VEVENT
END:VCALENDAR