BEGIN:VCALENDAR
VERSION:2.0
PRODID:-//Equitation comportementale - ECPv6.15.17.1//NONSGML v1.0//EN
CALSCALE:GREGORIAN
METHOD:PUBLISH
X-ORIGINAL-URL:https://www.equi-claire.be
X-WR-CALDESC:Évènements pour Equitation comportementale
REFRESH-INTERVAL;VALUE=DURATION:PT1H
X-Robots-Tag:noindex
X-PUBLISHED-TTL:PT1H
BEGIN:VTIMEZONE
TZID:Europe/Brussels
BEGIN:DAYLIGHT
TZOFFSETFROM:+0100
TZOFFSETTO:+0200
TZNAME:CEST
DTSTART:20220327T010000
END:DAYLIGHT
BEGIN:STANDARD
TZOFFSETFROM:+0200
TZOFFSETTO:+0100
TZNAME:CET
DTSTART:20221030T010000
END:STANDARD
BEGIN:DAYLIGHT
TZOFFSETFROM:+0100
TZOFFSETTO:+0200
TZNAME:CEST
DTSTART:20230326T010000
END:DAYLIGHT
BEGIN:STANDARD
TZOFFSETFROM:+0200
TZOFFSETTO:+0100
TZNAME:CET
DTSTART:20231029T010000
END:STANDARD
BEGIN:DAYLIGHT
TZOFFSETFROM:+0100
TZOFFSETTO:+0200
TZNAME:CEST
DTSTART:20240331T010000
END:DAYLIGHT
BEGIN:STANDARD
TZOFFSETFROM:+0200
TZOFFSETTO:+0100
TZNAME:CET
DTSTART:20241027T010000
END:STANDARD
END:VTIMEZONE
BEGIN:VEVENT
DTSTART;TZID=Europe/Brussels:20230408T093000
DTEND;TZID=Europe/Brussels:20230409T173000
DTSTAMP:20260419T213424
CREATED:20221025T180506Z
LAST-MODIFIED:20221025T180506Z
UID:34845-1680946200-1681061400@www.equi-claire.be
SUMMARY:Formation PRO modulaire\, 1e année - 3/10
DESCRIPTION:Les formations professionnelles en Équitation Éthologique proposées par Claire Stevenaert en collaboration avec Alexandre Declercq visent à former des futurs éducateurs équins ainsi que des enseignants qualifiés en équitation dite éthologique. \nAu terme de cette formation\, vous aurez acquis :\n– les connaissances et la pratique éthologique des 5 savoirs d’équitation éthologique de la fédération française d’équitation\,\n– une expérience pédagogique dans l’enseignement des 5 savoirs\,\n– des compétences de travail avec différents chevaux. \nLe programme :\n\nUne première année avec 20 journées de stages planifiées en week-end\nUne deuxième année avec 20 journées de stages planifiées en week-end\nDes journées d’entraînement pédagogique.\n\nLes dates de la première année :\n\n11 et 12 février 2023\,\n11 et 12 mars 2023\,\n8 et 9 avril 2023\,\n13 et 14 mai 2023\,\n10 et 11 juin 2023.\n+ 5 week-ends.\n\nTarif première année : \n\n2989€ / stagiaire avec cheval\n\nDécouvrez l’entièreté du programme via le lien suivant : https://www.equi-claire.be/pro-modulaire/ \nInformations : 0473/622.422 – infos@equi-claire.be
URL:https://www.equi-claire.be/event/formation-pro-modulaire-1e-annee-3-10/
LOCATION:Donstiennes\, rue couture 144\, Donstiennes\, 6536\, Belgique
CATEGORIES:Formation
ATTACH;FMTTYPE=image/jpeg:https://www.equi-claire.be/wp-content/uploads/2020/07/alex-claire.jpg
END:VEVENT
BEGIN:VEVENT
DTSTART;TZID=Europe/Brussels:20230415T093000
DTEND;TZID=Europe/Brussels:20230416T173000
DTSTAMP:20260419T213424
CREATED:20230201T104906Z
LAST-MODIFIED:20230201T104906Z
UID:35685-1681551000-1681666200@www.equi-claire.be
SUMMARY:Stage d’initiation au travail au sol
DESCRIPTION:Durant deux jours\, vous allez apprendre les bases de l’équitation éthologique : obtenir la confiance et le respect mutuels avec votre cheval. \nVous allez alterner des séances de travail avec les chevaux et des séances de gestuelle afin de vous familiariser avec les différents outils. Vous découvrirez essentiellement comment communiquer avec votre partenaire équin lors de séances de travail au sol. Une petite séance de théorie vous permettra aussi d’approfondir vos connaissances du monde du cheval. Ce stage est ouvert à toute personne désirant approfondir sa relation avec les chevaux\, cavaliers ou non cavaliers\, quelle que soit la discipline. \nExemple d’une journée de stage : \n– Accueil et présentation du stage – Séance de gestuelle – Abord du cheval – séance d’observation – Séance de travail à pied – Pause du midi – Théorie éthologique du cheval – Séance de gestuelle – Séance de travail à pied \nMaximum 6 couples cheval / cavalier \nTarifs : \n\n200 euros TVAC par stagiaire avec cheval\nAuditeur = 50 €/week-end\nhébergement du cheval en box : 40 €/week-end\nhébergement du cheval en paddock : 20 €/week-end\nlocation d’un cheval : 30 €/week-end\n\nInfos : infos@equi-claire.be – 0473/ 62 24 22
URL:https://www.equi-claire.be/event/stage-dinitiation-au-travail-au-sol-9/
LOCATION:Donstiennes\, rue couture 144\, Donstiennes\, 6536\, Belgique
CATEGORIES:Stage tous publics,Stages,Travail au sol
ATTACH;FMTTYPE=image/jpeg:https://www.equi-claire.be/wp-content/uploads/2016/08/initiation-au-sol.jpg
END:VEVENT
BEGIN:VEVENT
DTSTART;TZID=Europe/Brussels:20230422T093000
DTEND;TZID=Europe/Brussels:20230423T173000
DTSTAMP:20260419T213424
CREATED:20221004T082957Z
LAST-MODIFIED:20230408T061217Z
UID:34663-1682155800-1682271000@www.equi-claire.be
SUMMARY:Stage spécial poulain
DESCRIPTION:Ce stage d’initiation au travail au sol vous permettra d’acquérir les bases de l’équitation comportementale dite éthologique ainsi que celles de l’éducation au clicker-training en suivant un programme spécialement conçu pour les poulains. \nLe stage est destiné aux poulains ou jeunes chevaux encore peu manipulés. Le programme sera spécialement adapté pour les jeunes chevaux n’ayant pas encore l’habitude de garder un grande concentration (plusieurs petites séances sur la journée). \nObjectifs du stage :\n\nDévelopper une relation de complicité avec votre poulain dans le respect et la confiance mutuels\nFamiliarisation à la gestuelle de l’équitation comportementale\nDécouverte des bases de l’éducation au clicker-training\nManipulation des différents outils liés à l’équitation éthologique\nRespect du poulain lors de la marche en main\nContrôle de chaque partie du corps du poulain\nApprentissage de la prise des pieds\nDésensibilisations de base\nApprendre à gérer son poulain dans différentes situations en piste\nCapter son attention à tout moment\nNotions sur les différents processus d’apprentissages et la mise en pratique dans l’éducation du poulain\n\nDéroulement du stage :\n\nAlternance de séances de travail avec les poulains\, de séances de gestuelle et de théorie.\nLe stage est encadré par Claire Stevenaert\, spécialiste en équitation éthologique et clicker training. Il est également encadré par Lindsay Iovine\, pareuse orthopédique et formée en équitation éthologique par Claire Stevenaert et Alexandre Declercq. Il sera possible de bénéficier de l’expertise de Lindsay afin d’effectuer un premier parage si le poulain n’a jamais été paré (parage en supplément).\n\nCe stage est ouvert à toute personne désirant apprendre à manipuler correctement un poulain ou jeune cheval. \nFrais supplémentaires et autres : \n\nhébergement du cheval en box : 40 €/week-end\nhébergement du cheval en paddock : 20 €/week-end\ntarif auditeur : 50 € la journée ou 95 € le week-end\n\nRetrouvez toutes les informations de ce stage via le lien suivant : https://www.equi-claire.be/project/initiation-au-travail-au-sol-special-poulain/ \nInfos : 0473/622.422 – infos@equi-claire.be
URL:https://www.equi-claire.be/event/stage-special-poulain-2/
LOCATION:Donstiennes\, rue couture 144\, Donstiennes\, 6536\, Belgique
CATEGORIES:Poulains,Stage tous publics,Stages,Travail au sol
ATTACH;FMTTYPE=image/jpeg:https://www.equi-claire.be/wp-content/uploads/2017/03/poulain.jpg
END:VEVENT
BEGIN:VEVENT
DTSTART;TZID=Europe/Brussels:20230422T093000
DTEND;TZID=Europe/Brussels:20230423T173000
DTSTAMP:20260419T213424
CREATED:20221024T153614Z
LAST-MODIFIED:20230403T062625Z
UID:34820-1682155800-1682271000@www.equi-claire.be
SUMMARY:Formation CPE Cursus II - 2/5
DESCRIPTION:Promo 05 \nCette formation est accessible aux personnes ayant suivi le cursus 1\, et qui souhaitent se perfectionner et approfondir davantage les bases acquises lors du CPE cursus 01. \nPour consulter le programme de notre cursus 2\, nous vous invitons à suivre le lien suivant : https://www.equi-claire.be/formations/formations-equitation-ethologique/ \nLes dates de cette formation :\n\n25 et 26 mars 2023\n22 et 23 avril 2023\,\n27 et 28 mai 2023\,\n24 et 25 juin 2023\,\n22 et 23 juillet 2023.\n\nPour être tenu informé de nos prochaines dates de formation\, contactez-nous ! \nInfos : 0473/ 622 422 – infos@equi-claire.be
URL:https://www.equi-claire.be/event/formation-cpe-cu-ii-2-5/
LOCATION:Equitopya – Perwez\, Rue du Culot 64\, Perwez\, Perwez\, 1360\, Belgique
CATEGORIES:Formation
ATTACH;FMTTYPE=image/jpeg:https://www.equi-claire.be/wp-content/uploads/2019/08/P1010082-scaled.jpg
END:VEVENT
END:VCALENDAR