BEGIN:VCALENDAR
VERSION:2.0
PRODID:-//Equitation comportementale - ECPv6.15.17.1//NONSGML v1.0//EN
CALSCALE:GREGORIAN
METHOD:PUBLISH
X-WR-CALNAME:Equitation comportementale
X-ORIGINAL-URL:https://www.equi-claire.be
X-WR-CALDESC:Évènements pour Equitation comportementale
REFRESH-INTERVAL;VALUE=DURATION:PT1H
X-Robots-Tag:noindex
X-PUBLISHED-TTL:PT1H
BEGIN:VTIMEZONE
TZID:Europe/Brussels
BEGIN:DAYLIGHT
TZOFFSETFROM:+0100
TZOFFSETTO:+0200
TZNAME:CEST
DTSTART:20220327T010000
END:DAYLIGHT
BEGIN:STANDARD
TZOFFSETFROM:+0200
TZOFFSETTO:+0100
TZNAME:CET
DTSTART:20221030T010000
END:STANDARD
BEGIN:DAYLIGHT
TZOFFSETFROM:+0100
TZOFFSETTO:+0200
TZNAME:CEST
DTSTART:20230326T010000
END:DAYLIGHT
BEGIN:STANDARD
TZOFFSETFROM:+0200
TZOFFSETTO:+0100
TZNAME:CET
DTSTART:20231029T010000
END:STANDARD
BEGIN:DAYLIGHT
TZOFFSETFROM:+0100
TZOFFSETTO:+0200
TZNAME:CEST
DTSTART:20240331T010000
END:DAYLIGHT
BEGIN:STANDARD
TZOFFSETFROM:+0200
TZOFFSETTO:+0100
TZNAME:CET
DTSTART:20241027T010000
END:STANDARD
END:VTIMEZONE
BEGIN:VEVENT
DTSTART;TZID=Europe/Brussels:20230503T093000
DTEND;TZID=Europe/Brussels:20230505T173000
DTSTAMP:20260419T193313
CREATED:20230301T143019Z
LAST-MODIFIED:20230305T173723Z
UID:35942-1683106200-1683307800@www.equi-claire.be
SUMMARY:Stage Equifeel ados
DESCRIPTION:Vous vous intéressez à l’équitation éthologique ? Vous souhaitez obtenir la confiance et le respect mutuels avec un cheval ? Vous souhaitez évoluer en toute sécurité sur du travail à pied ?  Vous souhaitez découvrir l’Equifeel ou approfondir vos connaissances dans cette discipline ? Ce stage de 3 jours est fait pour vous ! \nIl vous permettra de vous familiariser avec les différents tests en alternance avec des séances d’exercices en piste pour s’entraîner aux différentes épreuves.\nLe but de l’Equifeel est de vous donner d’avantage de compréhension du cheval\, de réflexion et de ressenti dans ses interactions avec lui.\nNous passerons en revue les bases de l’équitation éthologique avant de pouvoir parcourir les différents challenges disposés dans la piste\, le rond de longe et le paddock. \nUn cheval est réservé par personne pour la durée du stage. Possibilité de venir avec le votre. \nPour participer à ce stage il faut avoir entre 13 et 18 ans. \nDATES : 03 – 04 et 05 mai 2023. \nLieu : L’écurie du moulin de Donstiennes \nObjectifs du stage : \n– Découverte de la discipline\n– Entraînement sur tous les tests de la catégorie « club » repris par le règlement FFE\n– Astuces pour réussir les exercices \nEncadrement : \n\n – Claire Stevenaert\, spécialiste en équitation éthologique \n– plusieurs stagiaires en formation professionnelle\npour un encadrement très personnalisé \nTarif du stage : € 240 TVAC pour 3 jours \nCe montant comprend l’encadrement\, le support théorique et la location d’un cheval ou l’hébergement de votre cheval en paddock pour les trois jours.\nPrévoir le pique nique. Les boissons sont comprises. \nInternat : \nNous vous proposons un internat durant le stage.\nDu mercredi midi au vendredi midi (repas et hébergement) : 65 €\nSi vous souhaitez arriver le mardi soir c’est possible\, il faudra compter 25 € en plus (90 €).
URL:https://www.equi-claire.be/event/stage-equifeel-ados/
LOCATION:Donstiennes\, rue couture 144\, Donstiennes\, 6536\, Belgique
CATEGORIES:Stage-jeune,Travail au sol jeune
ATTACH;FMTTYPE=image/jpeg:https://www.equi-claire.be/wp-content/uploads/2023/02/DSC_0121-scaled.jpg
END:VEVENT
BEGIN:VEVENT
DTSTART;TZID=Europe/Brussels:20230506T093000
DTEND;TZID=Europe/Brussels:20230507T173000
DTSTAMP:20260419T193313
CREATED:20230118T151110Z
LAST-MODIFIED:20230118T151110Z
UID:35558-1683365400-1683480600@www.equi-claire.be
SUMMARY:Stage Equifeel
DESCRIPTION:Des épreuves d’Equifeel\, seront installées dans la piste\, le rond de longe et le paddock. \nIl est souhaitable de maîtriser les bases du travail au sol pour participer à ce stage. \nObjectifs du stage : \n\nDécouverte de la discipline\nEntrainement sur tous les jeux de la catégorie « club » repris par le règlement FFE\nÉtude du règlement et des différents jeux\nAstuces pour réussir les exercices\n\n\nDéroulement du stage : Familiarisation avec le règlement de la discipline et des différents jeux en alternance avec des séances d’exercices en piste pour s’entraîner aux différentes épreuves. Nous prévoyons de faire plusieurs groupes selon les niveaux (avec rappel théorique pour ceux qui découvrent la discipline). Le travail sera individualisé pour chaque couple piéton-cheval avec des conseils personnalisés. \nTarifs :\nLe stage : 150 euros TVAC pour le week-end\nHébergement en box + paddock : 40 euros/ week-end\nHébergement en paddock: 20 euros/ week-end\nLocation d’un cheval: 30 euros/ week-end \nInfos : infos@equi-claire.be \nInscription : https://www.equi-claire.be/produit/stage-equifeel/
URL:https://www.equi-claire.be/event/06-07-mai-2023-equifeel/
LOCATION:Donstiennes\, rue couture 144\, Donstiennes\, 6536\, Belgique
CATEGORIES:Equifeel,Stages
ATTACH;FMTTYPE=image/jpeg:https://www.equi-claire.be/wp-content/uploads/2022/02/Equifeel.jpg
END:VEVENT
BEGIN:VEVENT
DTSTART;TZID=Europe/Brussels:20230509T093000
DTEND;TZID=Europe/Brussels:20230511T173000
DTSTAMP:20260419T193313
CREATED:20230301T142539Z
LAST-MODIFIED:20230307T164236Z
UID:35938-1683624600-1683826200@www.equi-claire.be
SUMMARY:Stage Equifeel enfants
DESCRIPTION:Vous souhaitez que votre enfant obtienne la confiance et le respect mutuels avec un cheval ? Vous souhaitez qu’il/elle évolue en toute sécurité sur du travail à pied ? Ce stage de 3 jours est fait pour lui/elle ! Il/elle pourra découvrir l’Equifeel ou approfondir ses connaissances dans cette discipline également. \nLe but de l’Equifeel est de donner à votre enfant d’avantage de compréhension du cheval\, de réflexion et de ressenti dans ses interactions avec lui. \nNous allons passer en revue les bases de l’équitation éthologique avant de pouvoir parcourir les différents challenges disposés dans la piste\, le rond de longe et le paddock.\nIls auront l’occasion de se familiariser aux différents tests et le programme du stage sera adapté au niveau de chacun. \nUn cheval est réservé par enfant pour la durée du stage. Possibilité de venir avec le votre. \nCe stage est ouvert aux enfants à partir de 8 ans. \nDATES : 9 – 10 et 11 mai 2023. \nLieu : L’écurie du moulin de Donstiennes \nObjectifs du stage : \n– Découverte de la discipline\n– Entraînement sur tous les tests de la catégorie « club » repris par le règlement FFE\n– Astuces pour réussir les exercices \nEncadrement : \n – Claire Stevenaert\, spécialiste en équitation éthologique \n– plusieurs stagiaires en formation professionnelle\npour un encadrement très personnalisé \nTarif du stage : € 240 TVAC pour 3 jours \nCe montant comprend l’encadrement\, le support théorique et la location d’un cheval ou l’hébergement de votre cheval en paddock pour les trois jours.\nPrévoir le pique nique. Les boissons sont comprises. \nInternat : \nNous proposons un internat pour votre enfant durant le stage.\nDu mardi midi au jeudi midi (repas et hébergement) : 65 €\nSi vous souhaitez déposer votre enfant le lundi soir c’est possible\, il faudra compter 25 € en plus (90 €).
URL:https://www.equi-claire.be/event/stage-equifeel-enfants/
LOCATION:Donstiennes\, rue couture 144\, Donstiennes\, 6536\, Belgique
CATEGORIES:Stage-jeune,Travail au sol jeune
ATTACH;FMTTYPE=image/jpeg:https://www.equi-claire.be/wp-content/uploads/2023/02/330915054_932552127904648_4108141205816860866_n.jpg
END:VEVENT
BEGIN:VEVENT
DTSTART;TZID=Europe/Brussels:20230513T093000
DTEND;TZID=Europe/Brussels:20230514T173000
DTSTAMP:20260419T193313
CREATED:20221025T180831Z
LAST-MODIFIED:20221025T180831Z
UID:34847-1683970200-1684085400@www.equi-claire.be
SUMMARY:Formation PRO modulaire\, 1e année - 4/10
DESCRIPTION:Les formations professionnelles en Équitation Éthologique proposées par Claire Stevenaert en collaboration avec Alexandre Declercq visent à former des futurs éducateurs équins ainsi que des enseignants qualifiés en équitation dite éthologique. \nAu terme de cette formation\, vous aurez acquis :\n– les connaissances et la pratique éthologique des 5 savoirs d’équitation éthologique de la fédération française d’équitation\,\n– une expérience pédagogique dans l’enseignement des 5 savoirs\,\n– des compétences de travail avec différents chevaux. \nLe programme :\n\nUne première année avec 20 journées de stages planifiées en week-end\nUne deuxième année avec 20 journées de stages planifiées en week-end\nDes journées d’entraînement pédagogique.\n\nLes dates de la première année :\n\n11 et 12 février 2023\,\n11 et 12 mars 2023\,\n8 et 9 avril 2023\,\n13 et 14 mai 2023\,\n10 et 11 juin 2023.\n+ 5 week-ends.\n\nTarif première année : \n\n2989€ / stagiaire avec cheval\n\nDécouvrez l’entièreté du programme via le lien suivant : https://www.equi-claire.be/pro-modulaire/ \nInformations : 0473/622.422 – infos@equi-claire.be
URL:https://www.equi-claire.be/event/formation-pro-modulaire-1e-annee-4-10/
LOCATION:Donstiennes\, rue couture 144\, Donstiennes\, 6536\, Belgique
CATEGORIES:Formation
ATTACH;FMTTYPE=image/jpeg:https://www.equi-claire.be/wp-content/uploads/2020/07/alex-claire.jpg
END:VEVENT
BEGIN:VEVENT
DTSTART;TZID=Europe/Brussels:20230518T090000
DTEND;TZID=Europe/Brussels:20230518T180000
DTSTAMP:20260419T193313
CREATED:20230506T095810Z
LAST-MODIFIED:20230506T100519Z
UID:36324-1684400400-1684432800@www.equi-claire.be
SUMMARY:À la rencontre de l’équitation éthologique
DESCRIPTION:Au cours de la matinée\, vous pourrez assister à trois conférences passionnantes.\nL’après-midi sera consacré à des démonstrations et des master class\, où vous pourrez observer et apprendre directement sur le terrain.\n\nVenez découvrir le programme complet de la journée ici :\nhttps://formations-equestres.be/journee-equitation…/\n\nRejoignez-nous pour cette journée d’équitation éthologique unique en son genre\, qui vous permettra de développer de nouvelles compétences et de rencontrer d’autres passionnés de chevaux.\nInscrivez-vous dès maintenant pour réserver votre place !\nhttps://www.equi-claire.be/…/journee-equitation…/\n\nSi vous avez des questions\, n’hésitez pas à nous contacter par mail : infos@equi-claire.be\n\nSi vous êtes intéressé(e) pour assister aux master class en après-midi\, veuillez nous envoyer les informations suivantes par e-mail à infos@equi-claire.be : votre présentation\, la présentation de votre cheval\, une explication de votre problématique avec votre cheval\, ainsi que vos objectifs avec lui dans le futur. Le prix pour les cours de Master Class est de 50 €.
URL:https://www.equi-claire.be/event/journee-equitation-ethologique/
LOCATION:Donstiennes\, rue couture 144\, Donstiennes\, 6536\, Belgique
CATEGORIES:Calendrier,Démonstration,Formation
ATTACH;FMTTYPE=image/jpeg:https://www.equi-claire.be/wp-content/uploads/2023/05/013A2541-scaled.jpg
END:VEVENT
BEGIN:VEVENT
DTSTART;TZID=Europe/Brussels:20230519T140000
DTEND;TZID=Europe/Brussels:20230520T140000
DTSTAMP:20260419T193313
CREATED:20230513T174754Z
LAST-MODIFIED:20230513T174754Z
UID:36347-1684504800-1684591200@www.equi-claire.be
SUMMARY:Entraînement pour le concours Equifeel de ce dimanche 21 mai 2023
DESCRIPTION:Vous participez au concours Equifeel de ce dimanche 21 mai et vous souhaitez vous perfectionner ou vous souhaitez tout simplement vous entraîner ? \nNous organisons deux demi-journées pour vous permettre de revoir les différents exercices. \nL’entraînement se déroulera le vendredi 19 mai de 14h00 à 17h30 et le samedi 20 mai de 09h30 à 13h00. \nLe prix est de 80€ avec son cheval. \nRéservations : https://www.equi-claire.be/produit/entrainement-pour-le-concours-equifeel-de-ce-dimanche-21-mai-2023/ \nInfos : contact@formations-equestres.be \n  \n⚠️ Vous souhaitez vous inscrire à notre concours Equifeel ? Envoyez nous un mail 📧 → equifeel.donstiennes@gmail.com
URL:https://www.equi-claire.be/event/entrainement-pour-le-concours-equifeel-de-ce-dimanche-21-mai-2023/
LOCATION:Donstiennes\, rue couture 144\, Donstiennes\, 6536\, Belgique
CATEGORIES:Cours collectifs,Equifeel,Stages
ATTACH;FMTTYPE=image/jpeg:https://www.equi-claire.be/wp-content/uploads/2023/05/DSC_0210-scaled.jpg
END:VEVENT
BEGIN:VEVENT
DTSTART;TZID=Europe/Brussels:20230527T093000
DTEND;TZID=Europe/Brussels:20230528T173000
DTSTAMP:20260419T193313
CREATED:20221024T153900Z
LAST-MODIFIED:20230403T063115Z
UID:34822-1685179800-1685295000@www.equi-claire.be
SUMMARY:Formation CPE Cursus II - 3/5
DESCRIPTION:Promo 05 \nCette formation est accessible aux personnes ayant suivi le cursus 1\, et qui souhaitent se perfectionner et approfondir davantage les bases acquises lors du CPE cursus 01. \nPour consulter le programme de notre cursus 2\, nous vous invitons à suivre le lien suivant : https://www.equi-claire.be/formations/formations-equitation-ethologique/ \nLes dates de cette formation :\n\n25 et 26 mars 2023\n22 et 23 avril 2023\,\n27 et 28 mai 2023\,\n24 et 25 juin 2023\,\n22 et 23 juillet 2023.\n\nPour être tenu informé de nos prochaines dates de formation\, contactez-nous ! \nInfos : 0473/ 622 422 – infos@equi-claire.be
URL:https://www.equi-claire.be/event/formation-cpe-cu-ii-3-5/
LOCATION:Equitopya – Perwez\, Rue du Culot 64\, Perwez\, Perwez\, 1360\, Belgique
CATEGORIES:Formation
ATTACH;FMTTYPE=image/jpeg:https://www.equi-claire.be/wp-content/uploads/2019/08/P1010082-scaled.jpg
END:VEVENT
BEGIN:VEVENT
DTSTART;TZID=Europe/Brussels:20230529T093000
DTEND;TZID=Europe/Brussels:20230529T173000
DTSTAMP:20260419T193313
CREATED:20230516T171251Z
LAST-MODIFIED:20230516T171251Z
UID:36379-1685352600-1685381400@www.equi-claire.be
SUMMARY:Journée d'initiation au travail au sol
DESCRIPTION:Vous allez apprendre les bases de l’équitation éthologique : obtenir la confiance et le respect mutuels avec votre cheval.\nVous alternerez des séances de travail avec les chevaux et des séances de gestuelle afin de vous familiariser avec les différents outils. Vous découvrirez essentiellement comment communiquer avec votre partenaire équin lors de séances de travail au sol. Une petite séance de théorie vous permettra aussi d’approfondir vos connaissances du monde du cheval.\nCette journée est ouverte à toute personne désirant approfondir sa relation avec les chevaux\, cavaliers ou non cavaliers\, quelle que soit la discipline.\n\nExemple d’une journée de stage : Accueil et présentation du stage – Séance de gestuelle – Abord du cheval – séance d’observation – Séance de travail à pied – Pause du midi – Théorie éthologique du cheval – Séance de gestuelle – Séance de travail à pied\n\nTarif : 100 € la journée\n\nFrais supplémentaires :\n– hébergement du cheval en box : 20 € la journée\n– hébergement du cheval en paddock : 10 € la journée\n– location d’un cheval : 15 € la journée\n– auditeur = 25 € la journée \n\nRéservations : https://www.equi-claire.be/produit/journee-dinitiation-au-travail-au-sol/ \n\nInformations : 0473/622.422 ou infos@equi-claire.be
URL:https://www.equi-claire.be/event/journee-dinitiation-au-travail-au-sol/
LOCATION:Donstiennes\, rue couture 144\, Donstiennes\, 6536\, Belgique
CATEGORIES:Stage tous publics,Stages,Travail au sol
END:VEVENT
END:VCALENDAR